BEGIN:VCALENDAR
VERSION:2.0
PRODID:-//ChamberMaster//Event Calendar 2.0//EN
METHOD:PUBLISH
X-PUBLISHED-TTL:P3D
REFRESH-INTERVAL:P3D
CALSCALE:GREGORIAN
BEGIN:VEVENT
DTSTART:20130929T233000Z
DTEND:20130930T023000Z
X-MICROSOFT-CDO-ALLDAYEVENT:FALSE
SUMMARY:Stage 773: The Fun House
DESCRIPTION:Come Play with Us! at The Fun House. Your evening of fun includes continuous live entertainment on four stages\, Music by some of Chicago's best and most diverse talent\; a Silent and Live Auctions of once-in-a-lifetime activities\; Fabulous food and cocktails.\n\n	\n		$35 - Admission to the Fun House\, with fabulous food and a cash bar\n	\n		$60 - All of the above\, with a complimentary bar\n	\n		$125 - The EX2: all of the above\, with a premium bar\, plus at 7:30pm the astonishing\, amazing and arousing EXclusive EXperience of an old vaudevillian show with comedians\, dancers\, burlesque\, magicians\, acrobats\, and singers.\n		\n			 \n		\n			 \n		\n			Click here to purchase tickets online\, or call the box office at 773.327.5252
X-ALT-DESC;FMTTYPE=text/html:<p>\n	Come Play with Us! at The Fun House. Your evening of fun includes continuous live entertainment on four stages\, Music by some of Chicago&rsquo\;s best and most diverse talent\; a Silent and Live Auctions of once-in-a-lifetime activities\; Fabulous food and cocktails.</p>\n<ul>\n	<li>\n		$35 - Admission to the Fun House\, with fabulous food and a <u>cash</u> bar</li>\n	<li>\n		$60 - All of the above\, with a <u>complimentary</u> bar</li>\n	<li>\n		$125 - The <b>EX2:</b> all of the above\, with a <u>premium</u> bar\, plus at 7:30pm the <b>astonishing\, amazing</b> and <b>arousing </b><b>EX</b>clusive <b>EX</b>perience of an old <b>vaudevillian show</b> with comedians\, dancers\, burlesque\, magicians\, acrobats\, and singers.\n		<p>\n			&nbsp\;</p>\n		<p>\n			&nbsp\;</p>\n		<p>\n			Click <a href="https://www.vendini.com/ticket-software.html?t=tix&amp\;e=b5ab632362ab0a2b33e1198cc2cbbe3d">here</a> to purchase tickets online\, or call the box office at <strong>773.327.5252</strong></p>\n	</li>\n</ul>\n
LOCATION:1225 W. Belmont Ave. Chicago\, IL 60657
UID:e.1819.51
SEQUENCE:3
DTSTAMP:20260425T023102Z
URL:https://members.lakeviewroscoevillage.org/events/details/stage-773-the-fun-house-09-29-2013-51
END:VEVENT

END:VCALENDAR
