BEGIN:VCALENDAR
VERSION:2.0
PRODID:-//ChamberMaster//Event Calendar 2.0//EN
METHOD:PUBLISH
X-PUBLISHED-TTL:P3D
REFRESH-INTERVAL:P3D
CALSCALE:GREGORIAN
BEGIN:VEVENT
DTSTART:20131216T223000Z
DTEND:20131217T003000Z
X-MICROSOFT-CDO-ALLDAYEVENT:FALSE
SUMMARY:State Rep Feigenholtz Holiday Open House
DESCRIPTION:You are invited to attend a Holiday Open House at the new offices of Rep. Sara Feigenholtz\, Congressman Mike Quigley\, and Alderman Tom Tunney.\n\n\n\nRefreshments will be provided for guests\, and several health care "navigators" will be on hand to assist people with health insurance options under the Affordable Care Act.\n\n\n\nThe offices are accepting various donations of food for local pantries\, toys for hospitals\, and warm winter clothing for shelters.\n\n\n\nFor more information: 773-296-4141 or sara@staterepsara.com
X-ALT-DESC;FMTTYPE=text/html:You are invited to attend a Holiday Open House at the new offices of Rep. Sara Feigenholtz\, Congressman Mike Quigley\, and Alderman Tom Tunney.<br />\n<br />\nRefreshments will be provided for guests\, and several health care &quot\;navigators&quot\; will be on hand to assist people with health insurance options under the Affordable Care Act.<br />\n<br />\nThe offices are accepting various donations of food for local pantries\, toys for hospitals\, and warm winter clothing for shelters.<br />\n<br />\nFor more information: 773-296-4141 or sara@staterepsara.com 
LOCATION:3223 N. Sheffield Ave\, Suite A Chicago\, IL 60657
UID:e.1819.155
SEQUENCE:3
DTSTAMP:20260424T190842Z
URL:https://members.lakeviewroscoevillage.org/events/details/state-rep-feigenholtz-holiday-open-house-12-16-2013-155
END:VEVENT

END:VCALENDAR
