BEGIN:VCALENDAR
VERSION:2.0
PRODID:-//ChamberMaster//Event Calendar 2.0//EN
METHOD:PUBLISH
X-PUBLISHED-TTL:P3D
REFRESH-INTERVAL:P3D
CALSCALE:GREGORIAN
BEGIN:VEVENT
DTSTART:20170809T160000Z
DTEND:20170809T163000Z
X-MICROSOFT-CDO-ALLDAYEVENT:FALSE
SUMMARY:Storytime at Hanna Andersson
DESCRIPTION:Join us for our Summer Reading Series: This School Year Will Be The Best! on Wednesday\, August 9 at 11 am (local time). Storytime will be hosted at all Hanna stores including outlets. \n\n\n\nGiveaway: For each storytime you attend during our Summer Reading Series\, you'll receive an entry (one per family) to win a set of six books. One lucky winner will be drawn per store on August 24. \n\n\n\nSummer Reading Series:\n\nWednesday\, August 23   My Teacher's Secret Life \n\n\n\nHanna's Summer Reading Series is in partnership with Rising a Reader\n\n\n\nRSVP on Facebook
X-ALT-DESC;FMTTYPE=text/html:<span style="color:rgb(75\, 79\, 86)\; font-family:helvetica\,arial\,sans-serif\; font-size:14px">Join us for our Summer Reading Series: This School Year Will Be The Best! on Wednesday\, August 9 at 11 am (local time). Storytime will be hosted at all Hanna stores including outlets.&nbsp\;</span><br />\n<br />\n<span style="color:rgb(75\, 79\, 86)\; font-family:helvetica\,arial\,sans-serif\; font-size:14px">Giveaway: For each storytime you attend during our Summer Reading Series\, you&rsquo\;ll receive an entry (one per family) to win a set of six books. One lucky winner will be drawn per store on August 24.&nbsp\;</span><br />\n<br />\n<span style="color:rgb(75\, 79\, 86)\; font-family:helvetica\,arial\,sans-serif\; font-size:14px">Summer Reading Series:</span><br />\n<span style="color:rgb(75\, 79\, 86)\; font-family:helvetica\,arial\,sans-serif\; font-size:14px">Wednesday\, August 23 &ndash\; My Teacher&rsquo\;s Secret Life&nbsp\;</span><br />\n<br />\n<span style="color:rgb(75\, 79\, 86)\; font-family:helvetica\,arial\,sans-serif\; font-size:14px">Hanna&rsquo\;s Summer Reading Series is in partnership with <a href="https://www.facebook.com/events/648952278627800">Rising a Reader<br />\n<br />\nRSVP on Facebook</a></span>
LOCATION:Hanna Andersson 3452 N. Southport Ave\, Chicago\, IL 60657
UID:e.1819.5185
SEQUENCE:3
DTSTAMP:20260419T123622Z
URL:https://members.lakeviewroscoevillage.org/events/details/storytime-at-hanna-andersson-08-09-2017-5185
END:VEVENT

END:VCALENDAR
