BEGIN:VCALENDAR
VERSION:2.0
PRODID:-//ChamberMaster//Event Calendar 2.0//EN
METHOD:PUBLISH
X-PUBLISHED-TTL:P3D
REFRESH-INTERVAL:P3D
CALSCALE:GREGORIAN
BEGIN:VEVENT
DTSTART:20170823T160000Z
DTEND:20170823T163000Z
X-MICROSOFT-CDO-ALLDAYEVENT:FALSE
SUMMARY:Storytime at Hanna Andersson
DESCRIPTION:Join us for our last storytime in our Summer Reading Series: My Teachers Secret Life on Wednesday\, August 23 at 11 am (local time). Storytime will be hosted at all Hanna stores including outlets. \n\n\n\nGiveaway: For each storytime you attend during our Summer Reading Series\, you'll receive an entry (one per family) to win a set of six books. One lucky winner will be drawn per store on August 24.\n\n\n\nHanna's Summer Reading Series is in partnership with Rising a Reader\n\n\n\nRSVP on Facebook
X-ALT-DESC;FMTTYPE=text/html:<span style="color:rgb(75\, 79\, 86)\; font-family:helvetica\,arial\,sans-serif\; font-size:14px">Join us for our last storytime in our Summer Reading Series: My Teachers Secret Life on Wednesday\, August 23 at 11 am (local time). Storytime will be hosted at all Hanna stores including outlets.&nbsp\;</span><br />\n<br />\n<span style="color:rgb(75\, 79\, 86)\; font-family:helvetica\,arial\,sans-serif\; font-size:14px">Giveaway: For each storytime you attend during our Summer Reading Series\, you&rsquo\;ll receive an entry (one per family) to win a set of six books. One lucky winner will be drawn per store on August 24.</span><br />\n<br />\n<span style="color:rgb(75\, 79\, 86)\; font-family:helvetica\,arial\,sans-serif\; font-size:14px">Hanna&rsquo\;s Summer Reading Series is in partnership with <a href="https://www.facebook.com/events/648952278627800">Rising a Reader</a><br />\n<br />\n<a href="https://www.facebook.com/events/1918572341689932">RSVP on Facebook</a></span>
LOCATION:Hanna Andersson - 3452 N. Southport Ave\, Chicago\, IL 60657
UID:e.1819.5186
SEQUENCE:3
DTSTAMP:20260419T123622Z
URL:https://members.lakeviewroscoevillage.org/events/details/storytime-at-hanna-andersson-08-23-2017-5186
END:VEVENT

END:VCALENDAR
