BEGIN:VCALENDAR
VERSION:2.0
PRODID:-//ChamberMaster//Event Calendar 2.0//EN
METHOD:PUBLISH
X-PUBLISHED-TTL:P3D
REFRESH-INTERVAL:P3D
CALSCALE:GREGORIAN
BEGIN:VEVENT
DTSTART;VALUE=DATE:20140712
DTEND;VALUE=DATE:20140714
TRANSP:TRANSPARENT
X-MICROSOFT-CDO-ALLDAYEVENT:TRUE
SUMMARY:Summer on Southport by StarEvents
DESCRIPTION:Put on by StarEvents\, Summer on Southport will take place July 12-13\, 2014!\n\n\n\nChicago's iconic Southport Corridor springs to life this summer when Summer on Southport takes over\n\nWaveland and Southport July 12-13. Featured in TimeOut Chicago as one of the "Best Festivals in Town\," the event will feature an eclectic mix of fine art by day and rockin' music at night\, setting the tone for a picture-perfect Chicago neighborhood street festival.\n\nFestival fans will visit the beautiful tree-lined streets of the eccentric neighborhood. Just steps away from the friendly confines of Wrigley Field\, the two-day festival will showcase some of the city's best and most diverse artists. Summer on Southport will put various art forms including oil\, acrylic\, watercolor\, jewelry\, sculpture\, photography\, wood\, fiber\, glass\, paper\, metal\, and mixed media at center stage all weekend long.\n\nFamilies will get the opportunity to bring their children and enjoy all that Summer on Southport has to offer. A special children's area will be designated and filled with interactive games and activities that will make for a memorable time. By night\, Summer on Southport will add a special stage for music where some of the Windy City's favorite bands will take over and play everyone's favorite songs from the 70s\, 80s\, 90s\, and today.\n\nSummer on Southport benefits the Southport Neighbors Association. Since 1988\, Southport Neighbors Association (SNA) has been representing the residents and businesses of the unique and vibrant neighborhood\, in the heart of Lakeview. Admission is a $5 suggested donation.\n\nSummer on Southport is produced and managed by StarEvents in partner with Amdur Productions.  For Thirty years\, Amdur productions\, a nationally acclaimed arts festival production company\, has organized and directed many of the country's most prestigious juried art festivals. Currently\, seven of Amdur Productions festivals are rated in Sunshine Artist magazine's\n\nTop 100  with six appearing in the "Top 50
X-ALT-DESC;FMTTYPE=text/html:<p style="margin: 0px 0px 1.618em\; padding: 0px\; border: 0px\; font-size: 14px\; vertical-align: baseline\; orphans: 3\; widows: 3\; color: rgb(40\, 40\, 40)\; font-family: Cabin\, sans-serif\; line-height: 22.652000427246094px\; text-align: justify\;">Put on by StarEvents\, Summer on Southport will take place July 12-13\, 2014!<br />\n<br />\nChicago&rsquo\;s iconic Southport Corridor springs to life this summer when Summer on Southport takes over<br />\nWaveland and Southport July 12-13. Featured in&nbsp\;<a href="http://www.timeout.com/chicago/things-to-do/best-festivals-in-chicago-this-weekend-2" style="margin: 0px\; padding: 0px\; border: 0px\; vertical-align: baseline\; color: rgb(34\, 147\, 226)\; text-decoration: none\;">TimeOut Chicago</a>&nbsp\;as one of the &ldquo\;Best Festivals in Town\,&rdquo\; the event will feature an eclectic mix of fine art by day and rockin&rsquo\; music at night\, setting the tone for a picture-perfect Chicago neighborhood street festival.</p>\n\n<p style="margin: 0px 0px 1.618em\; padding: 0px\; border: 0px\; font-size: 14px\; vertical-align: baseline\; orphans: 3\; widows: 3\; color: rgb(40\, 40\, 40)\; font-family: Cabin\, sans-serif\; line-height: 22.652000427246094px\; text-align: justify\;">Festival fans will visit the beautiful tree-lined streets of the eccentric neighborhood. Just steps away from the friendly confines of Wrigley Field\, the two-day festival will showcase some of the city&rsquo\;s best and most diverse artists. Summer on Southport will put various art forms including oil\, acrylic\, watercolor\, jewelry\, sculpture\, photography\, wood\, fiber\, glass\, paper\, metal\, and mixed media at center stage all weekend long.</p>\n\n<p style="margin: 0px 0px 1.618em\; padding: 0px\; border: 0px\; font-size: 14px\; vertical-align: baseline\; orphans: 3\; widows: 3\; color: rgb(40\, 40\, 40)\; font-family: Cabin\, sans-serif\; line-height: 22.652000427246094px\; text-align: justify\;">Families will get the opportunity to bring their children and enjoy all that Summer on Southport has to offer. A special children&rsquo\;s area will be designated and filled with interactive games and activities that will make for a memorable time. By night\, Summer on Southport will add a special stage for music where some of the Windy City&rsquo\;s favorite bands will take over and play everyone&rsquo\;s favorite songs from the 70s\, 80s\, 90s\, and today.</p>\n\n<p style="margin: 0px 0px 1.618em\; padding: 0px\; border: 0px\; font-size: 14px\; vertical-align: baseline\; orphans: 3\; widows: 3\; color: rgb(40\, 40\, 40)\; font-family: Cabin\, sans-serif\; line-height: 22.652000427246094px\; text-align: justify\;">Summer on Southport benefits the&nbsp\;<a href="http://www.southportneighbors.com/" style="margin: 0px\; padding: 0px\; border: 0px\; vertical-align: baseline\; color: rgb(34\, 147\, 226)\; text-decoration: none\;">Southport Neighbors Association</a>. Since 1988\, Southport Neighbors Association (SNA) has been representing the residents and businesses of the unique and vibrant neighborhood\, in the heart of Lakeview. Admission is a $5 suggested donation.</p>\n\n<p style="margin: 0px 0px 1.618em\; padding: 0px\; border: 0px\; font-size: 14px\; vertical-align: baseline\; orphans: 3\; widows: 3\; color: rgb(40\, 40\, 40)\; font-family: Cabin\, sans-serif\; line-height: 22.652000427246094px\; text-align: justify\;">Summer on Southport is produced and managed by StarEvents in partner with&nbsp\;<a href="http://www.amdurproductions.com/" style="margin: 0px\; padding: 0px\; border: 0px\; vertical-align: baseline\; color: rgb(34\, 147\, 226)\; text-decoration: none\;">Amdur Productions. &nbsp\;</a>For Thirty years\, Amdur productions\, a nationally acclaimed arts festival production company\, has organized and directed many of the country&rsquo\;s most prestigious juried art festivals. Currently\, seven of Amdur Productions festivals are rated in Sunshine Artist magazine&rsquo\;s<br />\nTop 100&Prime\; with six appearing in the &ldquo\;Top 50&Prime\;</p>\n
LOCATION:Southport at Waveland in Chicago\, IL
UID:e.1819.324
SEQUENCE:3
DTSTAMP:20260424T051152Z
URL:https://members.lakeviewroscoevillage.org/events/details/summer-on-southport-by-starevents-07-12-2014-324
END:VEVENT

END:VCALENDAR
