BEGIN:VCALENDAR
VERSION:2.0
PRODID:-//ChamberMaster//Event Calendar 2.0//EN
METHOD:PUBLISH
X-PUBLISHED-TTL:P3D
REFRESH-INTERVAL:P3D
CALSCALE:GREGORIAN
BEGIN:VEVENT
DTSTART:20130819T223000Z
DTEND:20130820T003000Z
X-MICROSOFT-CDO-ALLDAYEVENT:FALSE
SUMMARY:Summertime Friendraiser
DESCRIPTION:Join 6th District Senate President John Cullerton\, 12th District Commissioner John Fritchey\, 47th Ward Alderman Ameya Pawar\, and 11th District State Representative Ann Williams at a Free Summertime Friendraiser.\n\n	Talk with your local elected officials\, spend time with friends and neighbors\, and learn about how to get more involved! Beer\, Wine and Snacks will be served.\n\n	\n\n	Flyer
X-ALT-DESC;FMTTYPE=text/html:<p>\n	Join 6th District Senate President John Cullerton\, 12th District Commissioner John Fritchey\, 47th Ward Alderman Ameya Pawar\, and 11th District State Representative Ann Williams at a Free Summertime Friendraiser.</p>\n<p>\n	Talk with your local elected officials\, spend time with friends and neighbors\, and learn about how to get more involved! Beer\, Wine and Snacks will be served.<br />\n	<br />\n	<a href="http://cloud.chambermaster.com/userfiles/UserFiles/chambers/1819/File/meetgreet2013V2.jpg">Flyer</a><br />\n	<br />\n	&nbsp\;</p>\n
LOCATION:Half Acre Brewing Company 4257 N. Lincoln Ave
UID:e.1819.33
SEQUENCE:3
DTSTAMP:20260425T022931Z
URL:https://members.lakeviewroscoevillage.org/events/details/summertime-friendraiser-08-19-2013-33
END:VEVENT

END:VCALENDAR
