BEGIN:VCALENDAR
VERSION:2.0
PRODID:-//ChamberMaster//Event Calendar 2.0//EN
METHOD:PUBLISH
X-PUBLISHED-TTL:P3D
REFRESH-INTERVAL:P3D
CALSCALE:GREGORIAN
BEGIN:VEVENT
DTSTART:20150722T001500Z
DTEND:20150722T011500Z
X-MICROSOFT-CDO-ALLDAYEVENT:FALSE
SUMMARY:Sun's Down\, Wind Down Vinyasa
DESCRIPTION:Join us as we turn the lights down for an all levels complimentary candlelight yoga class with Jenny Banaszak of Jenny's Yoga for you. She'll cater the class to anyone from beginner through intermediate abilities. The class lasts 60 minutes and will take you through a warm up\, sun salutation\, core work\, restorative poses and some light meditation. At the end of class you will feel accomplished but unwound from your day. All participants will receive 20% off at Lol  Southport Chicago on the Spring/Summer 2015 Collection\, so come early to shop! We will also have complimentary Davids Tea. Mats are available on a first come first serve basis.
X-ALT-DESC;FMTTYPE=text/html:Join us as we turn the lights down for an all levels complimentary candlelight yoga class with Jenny Banaszak of Jenny&#39\;s Yoga for you. She&#39\;ll cater the class to anyone from beginner through intermediate abilities. The class lasts 60 minutes and will take you through a warm up\, sun salutation\, core work\, restorative poses and some light meditation. At the end of class you will feel accomplished but unwound from your day. All participants will receive 20% off at Lol&euml\; Southport Chicago on the Spring/Summer 2015 Collection\, so come early to shop! We will also have complimentary Davids Tea. Mats are available on a first come first serve basis.
LOCATION:Lol 3434 N Southport Chicago\, IL 60657
UID:e.1819.1783
SEQUENCE:3
DTSTAMP:20260423T055058Z
URL:https://members.lakeviewroscoevillage.org/events/details/sun-s-down-wind-down-vinyasa-07-21-2015-1783
END:VEVENT

END:VCALENDAR
