BEGIN:VCALENDAR
VERSION:2.0
PRODID:-//ChamberMaster//Event Calendar 2.0//EN
METHOD:PUBLISH
X-PUBLISHED-TTL:P3D
REFRESH-INTERVAL:P3D
CALSCALE:GREGORIAN
BEGIN:VEVENT
DTSTART:20140907T170000Z
DTEND:20140907T210000Z
X-MICROSOFT-CDO-ALLDAYEVENT:FALSE
SUMMARY:Sunday PlaySpot!
DESCRIPTION:Sunday Play Spot will transform one block of Lincoln Avenue into Lakeview's pop-up pedestrian plaza every Sunday afternoon this September! Come out to find space to relax outside or enjoy free playful activities for children and adults alike. Stay tuned for more information about weekly programming. Sunday Play Spot is organized by the Lakeview Chamber of Commerce with funding from SSA 27\, and in partnership with local businesses and institutions.
X-ALT-DESC;FMTTYPE=text/html:Sunday Play Spot will transform one block of Lincoln Avenue into Lakeview&#39\;s pop-up pedestrian plaza every Sunday afternoon this September! Come out to find space to relax outside or enjoy <strong>free</strong> playful activities for children and adults alike. Stay tuned for more information about weekly programming. Sunday Play Spot is organized by the Lakeview Chamber of Commerce with funding from SSA 27\, and in partnership with local businesses and institutions.
LOCATION:Lincoln Avenue between School and Roscoe
UID:e.1819.351
SEQUENCE:3
DTSTAMP:20260424T002356Z
URL:https://members.lakeviewroscoevillage.org/events/details/sunday-playspot-09-07-2014-351
END:VEVENT

END:VCALENDAR
