BEGIN:VCALENDAR
VERSION:2.0
PRODID:-//ChamberMaster//Event Calendar 2.0//EN
METHOD:PUBLISH
X-PUBLISHED-TTL:P3D
REFRESH-INTERVAL:P3D
CALSCALE:GREGORIAN
BEGIN:VEVENT
DTSTART:20160911T150000Z
DTEND:20160911T190000Z
X-MICROSOFT-CDO-ALLDAYEVENT:FALSE
SUMMARY:Sunday Spot
DESCRIPTION:Be creative. Jam out. And get active! Sunday Spot is coming to Lakeview\, transforming the intersection of Lincoln and Marshfield into a fun-filled pop-up plaza. On every Sunday this September\, enjoy art\, music and play in the heart of the neighborhood.\n\n\n\nFor more information\, visit LakeviewSundaySpot.com.
X-ALT-DESC;FMTTYPE=text/html:Be creative. Jam out. And get active! Sunday Spot is coming to Lakeview\, transforming the intersection of Lincoln and Marshfield into a fun-filled pop-up plaza. On every Sunday this September\, enjoy art\, music and play in the heart of the neighborhood.<br />\n<br />\nFor more information\, visit <a href="http://LakeviewSundaySpot.com" target="_blank">LakeviewSundaySpot.com</a>.
LOCATION:Lincoln & Marshfield
UID:e.1819.3549
SEQUENCE:3
DTSTAMP:20260422T061951Z
URL:https://members.lakeviewroscoevillage.org/events/details/sunday-spot-09-11-2016-3549
END:VEVENT

END:VCALENDAR
