BEGIN:VCALENDAR
VERSION:2.0
PRODID:-//ChamberMaster//Event Calendar 2.0//EN
METHOD:PUBLISH
X-PUBLISHED-TTL:P3D
REFRESH-INTERVAL:P3D
CALSCALE:GREGORIAN
BEGIN:VEVENT
DTSTART:20151011T160000Z
DTEND:20151011T200000Z
X-MICROSOFT-CDO-ALLDAYEVENT:FALSE
SUMMARY:Sunday Spot
DESCRIPTION:Be creative. Jam out. And get active! Sunday Spot is coming to Lakeview\, transforming a busy stretch of Paulina into a fun-filled pop-up plaza. On three consecutive Sundays this October\, enjoy art\, music and play in the heart of the neighborhood.\n\n\n\nLearn More
X-ALT-DESC;FMTTYPE=text/html:Be creative. Jam out. And get active! Sunday Spot is coming to Lakeview\, transforming a busy stretch of Paulina into a fun-filled pop-up plaza. On three consecutive Sundays this October\, enjoy art\, music and play in the heart of the neighborhood.<br />\n<br />\n<a href="http://www.lakeviewchamber.com/events/sunday-spot.aspx">Learn More&nbsp\;&raquo\;</a>
LOCATION:Lincoln & Paulina
UID:e.1819.1823
SEQUENCE:3
DTSTAMP:20260423T002524Z
URL:https://members.lakeviewroscoevillage.org/events/details/sunday-spot-10-11-2015-1823
END:VEVENT

END:VCALENDAR
