BEGIN:VCALENDAR
VERSION:2.0
PRODID:-//ChamberMaster//Event Calendar 2.0//EN
METHOD:PUBLISH
X-PUBLISHED-TTL:P3D
REFRESH-INTERVAL:P3D
CALSCALE:GREGORIAN
BEGIN:VEVENT
DTSTART;VALUE=DATE:20170811
DTEND;VALUE=DATE:20170812
TRANSP:TRANSPARENT
X-MICROSOFT-CDO-ALLDAYEVENT:TRUE
SUMMARY:Sunglass Sale: Friends and Family Day!
DESCRIPTION:Every day of our August Sunglass Sale is a great day\, but on ONE special day things are a little bit sweeter than usual...and this year\, that day is FRIDAY\, AUGUST 11TH! \n\nJoin us for some extra discounts on Sunglasses\, Frames and prescription lenses for our Friends and Family (that's YOU!!!) \n\nWe'll bring the glasses\, and the refreshments...you bring your beautiful self!
X-ALT-DESC;FMTTYPE=text/html:Every day of our August Sunglass Sale is a great day\, but on ONE special day things are a little bit sweeter than usual...and this year\, that day is FRIDAY\, AUGUST 11TH!&nbsp\;<br />\nJoin us for some extra discounts on Sunglasses\, Frames and prescription lenses for our Friends and Family (that&#39\;s YOU!!!)&nbsp\;<br />\nWe&#39\;ll bring the glasses\, and the refreshments...you bring your beautiful self!&nbsp\;
LOCATION:Eye Spy Optical 3350 N Lincoln Ave Chicago IL 60657
UID:e.1819.5226
SEQUENCE:3
DTSTAMP:20260419T125422Z
URL:https://members.lakeviewroscoevillage.org/events/details/sunglass-sale-friends-and-family-day-08-11-2017-5226
END:VEVENT

END:VCALENDAR
