BEGIN:VCALENDAR
VERSION:2.0
PRODID:-//ChamberMaster//Event Calendar 2.0//EN
METHOD:PUBLISH
X-PUBLISHED-TTL:P3D
REFRESH-INTERVAL:P3D
CALSCALE:GREGORIAN
BEGIN:VEVENT
DTSTART;VALUE=DATE:20131218
DTEND;VALUE=DATE:20140201
TRANSP:TRANSPARENT
X-MICROSOFT-CDO-ALLDAYEVENT:TRUE
SUMMARY:Sustainable Backyards Program- Submit Your Receipts
DESCRIPTION:RECEIVE Rebates of up to 50% toward the purchase of trees\, shrubs\, native plants\,compost bins\, AND rain barrels:\n\n	\n		up to $100\n	\n		up to $60\n	\n		up to $50\n	\n		up to $40\n\n\n	Sustainable Backyards also provides education on backyard composting\, harvesting rainwater\, making a rain garden\, planting trees\, and much more.\n\n	\n\n	Join us at one of our Sustainable Backyards workshops to learn how to improve your backyard.\n\n	\n\n	SUBMIT YOUR 2013 RECEIPTS BY 1/31/14.
X-ALT-DESC;FMTTYPE=text/html:<h1 class="main">\n	<span style="font-size: 16px\;">RECEIVE Rebates of <strong>up to 50%</strong> toward the purchase of trees\, shrubs\, native plants\,compost bins\, AND rain barrels:</span></h1>\n<ul id="rebates-list">\n	<li class="trees-and-shrubs">\n		up to $100</li>\n	<li class="native-plants">\n		up to $60</li>\n	<li class="compost">\n		up to $50</li>\n	<li class="rain-barrels">\n		up to $40</li>\n</ul>\n<p>\n	Sustainable Backyards also provides education on backyard composting\, harvesting rainwater\, making a rain garden\, planting trees\, and much more.<br />\n	<br />\n	Join us at one of our <a href="http://www.sustainablebackyards.org/events/event/">Sustainable Backyards workshops</a> to learn how to improve your backyard.<br />\n	<br />\n	<span style="color: rgb(255\, 0\, 0)\;">SUBMIT YOUR 2013 RECEIPTS BY 1/31/14.</span></p>\n
LOCATION:More Information: http://www.sustainablebackyards.org/about/
UID:e.1819.171
SEQUENCE:3
DTSTAMP:20260424T184950Z
URL:https://members.lakeviewroscoevillage.org/events/details/sustainable-backyards-program-submit-your-receipts-12-18-2013-171
END:VEVENT

END:VCALENDAR
