BEGIN:VCALENDAR
VERSION:2.0
PRODID:-//ChamberMaster//Event Calendar 2.0//EN
METHOD:PUBLISH
X-PUBLISHED-TTL:P3D
REFRESH-INTERVAL:P3D
CALSCALE:GREGORIAN
BEGIN:VEVENT
DTSTART:20150425T140000Z
DTEND:20150425T180000Z
X-MICROSOFT-CDO-ALLDAYEVENT:FALSE
SUMMARY:Take A Break Playcare Grand Opening Open House for Families
DESCRIPTION:Come see the newest playroom in Chicago! Our playroom offers supervised open play classes for children ages 3 months - 13 years of age. We feature separate infant/toddler playrooms for kids ages 0-5. Technology\, video games\, and sports lounges for kids ages 5 - 13. Parent's must remain onsite for the open house event. Parents who register their children and purchase weekly/monthly passes or bulk rate hours during the open house event will receive 20% off discount off the purchase. Limit 1 weekly/monthly discounted grand opening savings pass per child. Max of 20 bulk hours per family eligible for grand opening savings. Weekly/monthly pass quantities greater than 1 for same child or bulk hours greater than 20 are regularly priced.\n\n \n\nIf the open house event becomes crowded\, we ask that parents limit playtime to 45 mins so everyone has an opportunity to view and enjoy the space.
X-ALT-DESC;FMTTYPE=text/html:<span style="font-size:12px"><span style="color:#262626"><span style="font-family:helvetica">Come see the newest playroom in Chicago! Our playroom offers supervised open play classes for children ages 3 months - 13 years of age. We feature separate infant/toddler playrooms for kids ages 0-5. Technology\, video games\, and sports lounges for kids ages 5 - 13. Parent&#39\;s must remain onsite for the open house event. Parents who register their children and purchase weekly/monthly passes or bulk rate hours during the open house event will receive 20% off discount off the purchase. Limit 1 weekly/monthly discounted grand opening savings pass per child. Max of 20 bulk hours per family eligible for grand opening savings. Weekly/monthly pass quantities greater than 1 for same child or bulk hours greater than 20 are regularly priced.</span></span><br />\n&nbsp\;<br />\n<span style="color:#262626"><span style="font-family:helvetica">If the open house event becomes crowded\, we ask that parents limit playtime to 45 mins so everyone has an opportunity to view and enjoy the space.</span></span></span><br />\n&nbsp\;
LOCATION:2855 N Lincoln Ave\, 1st Floor
UID:e.1819.1550
SEQUENCE:3
DTSTAMP:20260423T113634Z
URL:https://members.lakeviewroscoevillage.org/events/details/take-a-break-playcare-grand-opening-open-house-for-families-04-25-2015-1550
END:VEVENT

END:VCALENDAR
