BEGIN:VCALENDAR
VERSION:2.0
PRODID:-//ChamberMaster//Event Calendar 2.0//EN
METHOD:PUBLISH
X-PUBLISHED-TTL:P3D
REFRESH-INTERVAL:P3D
CALSCALE:GREGORIAN
BEGIN:VEVENT
DTSTART;VALUE=DATE:20140705
DTEND;VALUE=DATE:20140707
TRANSP:TRANSPARENT
X-MICROSOFT-CDO-ALLDAYEVENT:TRUE
SUMMARY:Taste of Lakeview by StarEvents
DESCRIPTION:Put on by StarEvents\, Taste of Lakeview will take place July 5-6\, 2014!\n\n \nFire up those taste buds and prepare for an unforgettable weekend in good company with Chicagoans at the Taste of Lakeview.\n\nLocated in the heart of Lakeview\, at 3200 N. Lincoln Avenue at Belmont\, this event is the epitome of iconic Chicago neighborhoods. Featured as one of 2013's can't miss street festivals on WGN-TV\, The Taste of Lakeview pairs classic summer festival flavor with delectable local treats\, interactive family fun\, fashionable vendors and of course music!\n\nBut let's get down to business and talk about what this festival is really about- food! Just a week prior to the Taste of Chicago\, local foodies will get the opportunity to put their taste buds to the test and enjoy local savory summer dishes. Lakeview's favorite food vendors will bring their A-game with everything from piping hot Chicago style pizza to cool and refreshing ice cream and gelato! Make sure to bring your appetite!\n\nAfter your stomachs are full of favorite treats be sure to swing by the main stage to dance off a few calories and enjoy Chicago's hottest musical acts. And if dancing isn't your thing or you're just looking to top off the experience\, artisans and craft vendors will help complete your festival experience!\n\nAdmission is a suggested $5 donation\, with proceeds benefiting both the West Lakeview Neighbors\, an organization that represents the residents of the unique and vibrant West Lakeview neighborhood\, and the Jahn World Language School\, a school dedicated to engaging students in a Spanish language program that promotes bicultural learning.
X-ALT-DESC;FMTTYPE=text/html:Put on by StarEvents\, Taste of Lakeview will take place July 5-6\, 2014!<br />\n&nbsp\;\n<p style="margin: 0px 0px 1.618em\; padding: 0px\; border: 0px\; font-size: 14px\; vertical-align: baseline\; orphans: 3\; widows: 3\; color: rgb(40\, 40\, 40)\; font-family: Cabin\, sans-serif\; line-height: 22.652000427246094px\;">Fire up those taste buds and prepare for an unforgettable weekend in good company with Chicagoans at the Taste of Lakeview.</p>\n\n<p style="margin: 0px 0px 1.618em\; padding: 0px\; border: 0px\; font-size: 14px\; vertical-align: baseline\; orphans: 3\; widows: 3\; color: rgb(40\, 40\, 40)\; font-family: Cabin\, sans-serif\; line-height: 22.652000427246094px\;">Located in the heart of Lakeview\, at 3200 N. Lincoln Avenue at Belmont\, this event is the epitome of iconic Chicago neighborhoods. Featured as one of 2013&rsquo\;s can&rsquo\;t miss street festivals on&nbsp\;<a href="http://wgntv.com/2013/07/05/midday-fix-summer-festivals-in-chicago/" style="margin: 0px\; padding: 0px\; border: 0px\; vertical-align: baseline\; color: rgb(34\, 147\, 226)\; text-decoration: none\;">WGN-TV</a>\, The Taste of Lakeview pairs classic summer festival flavor with delectable local treats\, interactive family fun\, fashionable vendors and of course music!</p>\n\n<p style="margin: 0px 0px 1.618em\; padding: 0px\; border: 0px\; font-size: 14px\; vertical-align: baseline\; orphans: 3\; widows: 3\; color: rgb(40\, 40\, 40)\; font-family: Cabin\, sans-serif\; line-height: 22.652000427246094px\;">But let&rsquo\;s get down to business and talk about what this festival is really about- food! Just a week prior to the Taste of Chicago\, local foodies will get the opportunity to put their taste buds to the test and enjoy local savory summer dishes. Lakeview&rsquo\;s favorite food vendors will bring their A-game with everything from piping hot Chicago style pizza to cool and refreshing ice cream and gelato! Make sure to bring your appetite!</p>\n\n<p style="margin: 0px 0px 1.618em\; padding: 0px\; border: 0px\; font-size: 14px\; vertical-align: baseline\; orphans: 3\; widows: 3\; color: rgb(40\, 40\, 40)\; font-family: Cabin\, sans-serif\; line-height: 22.652000427246094px\;">After your stomachs are full of favorite treats be sure to swing by the main stage to dance off a few calories and enjoy Chicago&rsquo\;s hottest musical acts. And if dancing isn&rsquo\;t your thing or you&rsquo\;re just looking to top off the experience\, artisans and craft vendors will help complete your festival experience!</p>\n\n<p style="margin: 0px 0px 1.618em\; padding: 0px\; border: 0px\; font-size: 14px\; vertical-align: baseline\; orphans: 3\; widows: 3\; color: rgb(40\, 40\, 40)\; font-family: Cabin\, sans-serif\; line-height: 22.652000427246094px\;">Admission is a suggested $5 donation\, with proceeds benefiting both the West Lakeview Neighbors\, an organization that represents the residents of the unique and vibrant West Lakeview neighborhood\, and the Jahn World Language School\, a school dedicated to engaging students in a Spanish language program that promotes bicultural learning.</p>\n
LOCATION:Lincoln Ave at Belmont in Chicago\, IL
UID:e.1819.323
SEQUENCE:3
DTSTAMP:20260424T074211Z
URL:https://members.lakeviewroscoevillage.org/events/details/taste-of-lakeview-by-starevents-07-05-2014-323
END:VEVENT

END:VCALENDAR
