BEGIN:VCALENDAR
VERSION:2.0
PRODID:-//ChamberMaster//Event Calendar 2.0//EN
METHOD:PUBLISH
X-PUBLISHED-TTL:P3D
REFRESH-INTERVAL:P3D
CALSCALE:GREGORIAN
BEGIN:VEVENT
DTSTART:20131214T140000Z
DTEND:20131215T020000Z
X-MICROSOFT-CDO-ALLDAYEVENT:FALSE
SUMMARY:TBOX 2013
DESCRIPTION:Festa's Annual 12 Bars of Christmas\, the world's most spectacular pub crawl! Proceeds from this year's event will help benefit the Lakeview Pantry.
X-ALT-DESC;FMTTYPE=text/html:Festa&#39\;s Annual 12 Bars of Christmas\, the world&#39\;s most spectacular pub crawl! Proceeds from this year&#39\;s event will help benefit the Lakeview Pantry.
LOCATION:Wrigleyville / Lakeview
UID:e.1819.57
SEQUENCE:3
DTSTAMP:20260424T185950Z
URL:https://members.lakeviewroscoevillage.org/events/details/tbox-2013-12-14-2013-57
END:VEVENT

END:VCALENDAR
