BEGIN:VCALENDAR
VERSION:2.0
PRODID:-//ChamberMaster//Event Calendar 2.0//EN
METHOD:PUBLISH
X-PUBLISHED-TTL:P3D
REFRESH-INTERVAL:P3D
CALSCALE:GREGORIAN
BEGIN:VEVENT
DTSTART:20151212T140000Z
DTEND:20151213T020000Z
X-MICROSOFT-CDO-ALLDAYEVENT:FALSE
SUMMARY:TBOX - Festa's 20th Annual Twelve Bars Of Xmas Pub Crawl
DESCRIPTION:TBOX 2015\, FESTA'S 20TH ANNUAL TWELVE BARS OF XMAS\n\nIN WRIGLEYVILLE/CHICAGO\n\nON SATURDAY\, DECEMBER 12TH\n\nFROM 8AM TO 8PM!\n\n\n#TBOX2015 is TBOX\, THE MOTION PICTURE\, as the 12 Bars of Xmas takes the theme of THE MOVIES to celebrate our Twentieth Smash Year! TBOX is THE legendary\, must-do Chicago Pub Crawl that is the PARTY of the YEAR\, drawing tens of thousands of the BIGGEST PARTIERS from all over the Midwest\, USA\, and the WORLD. TBOX2015 will include over 40 Wrigleyville Venues\, and a wristband is REQUIRED for entry into any of the bars. With ticket you will also get premium souvenir items including our famous TBOX #FestaPartier Gym Bag AND red fingerless drinking gloves!!\n\n\n\nTBOX and Festa Parties have donated over $250\,000 to Charities\, including over $125\,000 in 2013-14 to Lakeview Pantry and Chicago Police Memorial Foundation. TBOX began in 1996 you can learn all about the HISTORY and all the CRAZY STUFF like the CEREAL\, COSTUMES\, FRAMES\, STICKERS\, and MUCH\, MUCH MORE!\n\n\n\nTBOX 2015 will be featuring venues like Deuces and the Diamond\, Red Ivy\, John Barleycorn\, Old Crow\, Cubby Bear\, Roadhouse 66 and many more!!\n\n\n	CLICK HERE TO GET THE LATEST COUPON!\n	CLICK HERE TO PURCHASE TICKETS TO TBOX 2015!\n	CLICK HERE TO READ MORE ABOUT THE CHARITIES WE DONATE TO!
X-ALT-DESC;FMTTYPE=text/html:<div style="text-align:center"><span style="font-size:18px"><strong><span style="font-family:helvetica neue\,helvetica\,arial\,sans-serif">TBOX 2015\, FESTA&#39\;S 20TH ANNUAL TWELVE BARS OF XMAS<br />\nIN WRIGLEYVILLE/CHICAGO<br />\nON SATURDAY\, DECEMBER 12TH<br />\nFROM 8AM TO 8PM!</span></strong></span></div>\n<br />\n<span style="font-family:helvetica neue\,helvetica\,arial\,sans-serif\; font-size:14px">#TBOX2015 is TBOX\, THE MOTION PICTURE\, as the 12 Bars of Xmas takes the theme of THE MOVIES to celebrate our Twentieth Smash Year! TBOX is THE legendary\, must-do Chicago Pub Crawl that is the PARTY of the YEAR\, drawing tens of thousands of the BIGGEST PARTIERS from all over the Midwest\, USA\, and the WORLD. TBOX2015 will include over 40 Wrigleyville Venues\, and a wristband is REQUIRED for entry into any of the bars. With ticket you will also get premium souvenir items including our famous TBOX #FestaPartier Gym Bag AND red fingerless drinking gloves!!<br />\n<br />\nTBOX and Festa Parties have donated over $250\,000 to Charities\, including over $125\,000 in 2013-14 to Lakeview Pantry and Chicago Police Memorial Foundation. TBOX began in 1996 you can learn all about the HISTORY and all the CRAZY STUFF like the CEREAL\, COSTUMES\, FRAMES\, STICKERS\, and MUCH\, MUCH MORE!</span><br />\n<br />\n<span style="font-family:helvetica neue\,helvetica\,arial\,sans-serif\; font-size:14px">TBOX 2015 will be featuring venues like Deuces and the Diamond\, Red Ivy\, John Barleycorn\, Old Crow\, Cubby Bear\, Roadhouse 66 and many more!!</span>\n\n<ul>\n	<li><span style="font-size:16px"><a href="http://WWW.FESTAPARTIES.COM/COUPONS">CLICK HERE TO GET THE LATEST COUPON!</a></span></li>\n	<li><span style="font-size:16px"><a href="http://WWW.FESTAPARTIES.COM/BUYTBOX">CLICK HERE TO PURCHASE TICKETS TO TBOX 2015!</a></span></li>\n	<li><span style="font-size:16px"><a href="http://WWW.FESTAPARTIES.COM/CHARITIES">CLICK HERE TO READ MORE ABOUT THE CHARITIES WE DONATE TO!</a></span></li>\n</ul>\n
LOCATION:Wrigleyville
UID:e.1819.2254
SEQUENCE:3
DTSTAMP:20260422T223835Z
URL:https://members.lakeviewroscoevillage.org/events/details/tbox-festa-s-20th-annual-twelve-bars-of-xmas-pub-crawl-12-12-2015-2254
END:VEVENT

END:VCALENDAR
