BEGIN:VCALENDAR
VERSION:2.0
PRODID:-//ChamberMaster//Event Calendar 2.0//EN
METHOD:PUBLISH
X-PUBLISHED-TTL:P3D
REFRESH-INTERVAL:P3D
CALSCALE:GREGORIAN
BEGIN:VEVENT
DTSTART:20150624T000000Z
DTEND:20150624T020000Z
X-MICROSOFT-CDO-ALLDAYEVENT:FALSE
SUMMARY:TEAVANA OPEN HOUSE: Networking & Mingling Event
DESCRIPTION:Did you know that Teavana has some pretty delicious food options? \n\nI didn't. That's why I am hosting an OPEN HOUSE to share the love. Oh and FREE FOOD & DRINK!\n\nTuesday\, June 23rd @ 7:00pm. \n\n\n3428 N Southport Ave\, Chicago\, IL 60657 (Lakeview)\n\n\n\nVisit Teavana.Eventbrite.com for more info...\n\nLooking to sponsor? Give me a shout!
X-ALT-DESC;FMTTYPE=text/html:<p>Did you know that Teavana has some pretty delicious food options?&nbsp\;</p>\n\n<p>I didn&#39\;t. That&#39\;s why I am hosting an OPEN HOUSE to share the love. Oh and FREE FOOD &amp\; DRINK!</p>\n\n<p>Tuesday\, June 23rd @ 7:00pm.&nbsp\;</p>\n\n<div>\n<p>3428 N Southport Ave\, Chicago\, IL 60657 (Lakeview)<br />\n<br />\nVisit Teavana.Eventbrite.com for more info...</p>\n\n<p>Looking to sponsor? Give me a shout!</p>\n</div>\n
LOCATION:3428 N Southport Ave\, Chicago\, IL 60657
UID:e.1819.1772
SEQUENCE:3
DTSTAMP:20260423T093153Z
URL:https://members.lakeviewroscoevillage.org/events/details/teavana-open-house-networking-mingling-event-06-23-2015-1772
END:VEVENT

END:VCALENDAR
