BEGIN:VCALENDAR
VERSION:2.0
PRODID:-//ChamberMaster//Event Calendar 2.0//EN
METHOD:PUBLISH
X-PUBLISHED-TTL:P3D
REFRESH-INTERVAL:P3D
CALSCALE:GREGORIAN
BEGIN:VEVENT
DTSTART;VALUE=DATE:20130912
DTEND;VALUE=DATE:20130913
TRANSP:TRANSPARENT
X-MICROSOFT-CDO-ALLDAYEVENT:TRUE
SUMMARY:The Affordable Care Act Information Seminar
DESCRIPTION:Congressman Mike Quigley presents the Affordable Care Act Information Seminar. Presentations by:\n\nIllinois Health Insurance Marketplace\n\nCook County Health and Hospital Systems\n\nSmall Business Administration\n\n\n\nFlyer
X-ALT-DESC;FMTTYPE=text/html:Congressman Mike Quigley presents the Affordable Care Act Information Seminar. Presentations by:<br />\nIllinois Health Insurance Marketplace<br />\nCook County Health and Hospital Systems<br />\nSmall Business Administration<br />\n<br />\n<a href="http://cloud.chambermaster.com/userfiles/UserFiles/chambers/1819/File/ACAInfoFlyer.jpg">Flyer</a><br />\n
LOCATION:DePaul University: Courtelyou Commons 2324 N. Freemont St. Chicago\, IL 60614
UID:e.1819.55
SEQUENCE:3
DTSTAMP:20260425T004114Z
URL:https://members.lakeviewroscoevillage.org/events/details/the-affordable-care-act-information-seminar-09-12-2013-55
END:VEVENT

END:VCALENDAR
