BEGIN:VCALENDAR
VERSION:2.0
PRODID:-//ChamberMaster//Event Calendar 2.0//EN
METHOD:PUBLISH
X-PUBLISHED-TTL:P3D
REFRESH-INTERVAL:P3D
CALSCALE:GREGORIAN
BEGIN:VEVENT
DTSTART:20140614T200000Z
DTEND:20140615T010000Z
X-MICROSOFT-CDO-ALLDAYEVENT:FALSE
SUMMARY:The Fun House Annual Benefit at Stage 773
DESCRIPTION:The Fun House\n\n\n\nTHE FUN HOUSE will feature family-friendly indoor and outdoor (weather permitting) entertainment from 3-8 p.m. including music\, face painting\, a puppet show\, interactive games\, photo booth\, and live performances from the Jesse White Tumbling Team\, internet sensation Team StarKid\, Camp Rhythm\, and Stage 773's very own Bri-Ko (winners of 'The Best of the Fest' of the 2014 Toronto Sketch Comedy Festival). Adult entertainment begins at 8 p.m. through Midnight with performances from The Cupid Players\, Vaudezilla\, Fruit Flies and Brothers Star Race.\n\nThe family-friendly silent auction runs from 3 - 8PM\, featuring a hot-air balloon ride and a private sailboat for 6 people. The adult silent auction runs from 3 - 10PM\n\nAdult entertainment begins at 8pm. through Midnight with performances from The Cupid Players\,* Vaudezilla*\, Fruit Flies* and Brothers Star Race*.\n\n\n\nIndividual tickets are required for concessions/bar and theater entertainment at $1.00 each.\n\nFamily friendly shows are 5 tickets\; Adult shows are 15 tickets.\n\nThere will be a discount offer of 60 tickets (valued at $60) for $50 (purchase tickets at door).\n\nTickets for the event are only $10 for folks 15 years and older and free for folks under 15 years of age.\n\nAll proceeds directly benefit Stage 773. Click here for more information.
X-ALT-DESC;FMTTYPE=text/html:<strong style="color: rgb(34\, 34\, 34)\; font-family: 'Lucida Sans Unicode'\, 'Lucida Grande'\, Tahoma\, sans-serif\; font-size: 12px\; line-height: 21.600000381469727px\;">The Fun House</strong>\n\n<p style="margin-bottom: 1em\; margin-top: 0em\; color: rgb(34\, 34\, 34)\; font-family: 'Lucida Sans Unicode'\, 'Lucida Grande'\, Tahoma\, sans-serif\; font-size: 12px\; line-height: 21.600000381469727px\;"><br />\nTHE FUN HOUSE will feature family-friendly indoor and outdoor (weather permitting) entertainment from 3-8 p.m. including music\, face painting\, a puppet show\, interactive games\, photo booth\, and live performances from the Jesse White Tumbling Team\, internet sensation Team StarKid\, Camp Rhythm\, and Stage 773&rsquo\;s very own Bri-Ko (winners of &lsquo\;The Best of the Fest&lsquo\; of the 2014 Toronto Sketch Comedy Festival). Adult entertainment begins at 8 p.m. through Midnight with performances from The Cupid Players\, Vaudezilla\, Fruit Flies and Brothers Star Race.</p>\n\n<p style="margin-bottom: 1em\; margin-top: 0em\; color: rgb(34\, 34\, 34)\; font-family: 'Lucida Sans Unicode'\, 'Lucida Grande'\, Tahoma\, sans-serif\; font-size: 12px\; line-height: 21.600000381469727px\;">The family-friendly silent auction runs from 3 - 8PM\, featuring a hot-air balloon ride and a private sailboat for 6 people. The adult silent auction runs from 3 - 10PM</p>\n\n<p style="margin-bottom: 1em\; margin-top: 0em\; color: rgb(34\, 34\, 34)\; font-family: 'Lucida Sans Unicode'\, 'Lucida Grande'\, Tahoma\, sans-serif\; font-size: 12px\; line-height: 21.600000381469727px\;">Adult entertainment begins at 8pm. through Midnight with performances from The Cupid Players\,* Vaudezilla*\, Fruit Flies* and Brothers Star Race*.</p>\n\n<p style="margin-bottom: 1em\; margin-top: 0em\; color: rgb(34\, 34\, 34)\; font-family: 'Lucida Sans Unicode'\, 'Lucida Grande'\, Tahoma\, sans-serif\; font-size: 12px\; line-height: 21.600000381469727px\;"><br />\nIndividual tickets are required for concessions/bar and theater entertainment at $1.00 each.<br />\nFamily friendly shows are 5 tickets\; Adult shows are 15 tickets.<br />\nThere will be a discount offer of 60 tickets (valued at $60) for $50 (purchase tickets at door).</p>\n\n<p style="margin-bottom: 1em\; margin-top: 0em\; color: rgb(34\, 34\, 34)\; font-family: 'Lucida Sans Unicode'\, 'Lucida Grande'\, Tahoma\, sans-serif\; font-size: 12px\; line-height: 21.600000381469727px\;"><a href="https://www.vendini.com/ticket-software.html?t=tix&amp\;w=a22ae4e5853abc63f1497eb537eca0ad">Tickets</a> for the event are only $10 for folks 15 years and older and free for folks under 15 years of age.</p>\n\n<p style="margin-bottom: 1em\; margin-top: 0em\; color: rgb(34\, 34\, 34)\; font-family: 'Lucida Sans Unicode'\, 'Lucida Grande'\, Tahoma\, sans-serif\; font-size: 12px\; line-height: 21.600000381469727px\;">All proceeds directly benefit Stage 773. Click&nbsp\;<a href="http://www.stage773.com/funhouse" style="color: rgb(0\, 0\, 0)\; font-weight: bold\;" target="_blank">here</a>&nbsp\;for more information.</p>\n
LOCATION:Stage 773 1225 W. Belmont Ave
UID:e.1819.314
SEQUENCE:3
DTSTAMP:20260424T073906Z
URL:https://members.lakeviewroscoevillage.org/events/details/the-fun-house-annual-benefit-at-stage-773-06-14-2014-314
END:VEVENT

END:VCALENDAR
