BEGIN:VCALENDAR
VERSION:2.0
PRODID:-//ChamberMaster//Event Calendar 2.0//EN
METHOD:PUBLISH
X-PUBLISHED-TTL:P3D
REFRESH-INTERVAL:P3D
CALSCALE:GREGORIAN
BEGIN:VEVENT
DTSTART;VALUE=DATE:20140307
DTEND;VALUE=DATE:20140314
TRANSP:TRANSPARENT
X-MICROSOFT-CDO-ALLDAYEVENT:TRUE
SUMMARY:The Great Beauty at The Music Box Theatre
DESCRIPTION:Rome\, Italy\, lush\, timeless\, opulent\, and home to journalist Jep Gambardella (Toni Servillo of Il divo and Gomorrah). Since the early success of his one and only novel decades ago\, Jep has been a permanent fixture in the city's literary and social circles and has thoroughly enjoyed every pleasure Rome has to offer.\n\nBut as his sixty-fifth birthday comes and goes\, Jep finds himself beginning to take stock of his life\; looking past the extravagant nightclubs\, parties\, and cafes to see himself and Rome in a new light. Called "A Technicolor La Dolce Vita for the Berlusconi era\," The Great Beauty is a sensuous epic\, a breathtaking feast for the senses and a compelling introspective journey into the life and mind of a man and the eternal city.
X-ALT-DESC;FMTTYPE=text/html:<span style="font-family:helvetica\,sans-serif\;"><span style="font-size:9.0pt\;">Rome\, Italy\, lush\, timeless\, opulent\, and home to journalist Jep Gambardella (Toni Servillo of </span></span><cite><strong><span style="font-family:georgia\,serif\;"><span style="font-size:9.0pt\;">Il divo</span></span></strong></cite><span style="font-family:helvetica\,sans-serif\;"><span style="font-size:9.0pt\;"> and </span></span><cite><strong><span style="font-family:georgia\,serif\;"><span style="font-size:9.0pt\;">Gomorrah</span></span></strong></cite><span style="font-family:helvetica\,sans-serif\;"><span style="font-size:9.0pt\;">). Since the early success of his one and only novel decades ago\, Jep has been a permanent fixture in the city&rsquo\;s literary and social circles and has thoroughly enjoyed every pleasure Rome has to offer.</span></span><br />\n<span style="font-family:helvetica\,sans-serif\;"><span style="font-size:9.0pt\;">But as his sixty-fifth birthday comes and goes\, Jep finds himself beginning to take stock of his life\; looking past the extravagant nightclubs\, parties\, and cafes to see himself and Rome in a new light. Called &ldquo\;A Technicolor La Dolce Vita for the Berlusconi era\,&rdquo\; The Great Beauty is a sensuous epic\, a breathtaking feast for the senses and a compelling introspective journey into the life and mind of a man and the eternal city.</span></span>
LOCATION:Music Box Theatre 3733 N. Southport Ave. Chicago\, IL 60613
UID:e.1819.228
SEQUENCE:3
DTSTAMP:20260424T140851Z
URL:https://members.lakeviewroscoevillage.org/events/details/the-great-beauty-at-the-music-box-theatre-03-07-2014-228
END:VEVENT

END:VCALENDAR
