BEGIN:VCALENDAR
VERSION:2.0
PRODID:-//ChamberMaster//Event Calendar 2.0//EN
METHOD:PUBLISH
X-PUBLISHED-TTL:P3D
REFRESH-INTERVAL:P3D
CALSCALE:GREGORIAN
BEGIN:VEVENT
DTSTART;VALUE=DATE:20160328
DTEND;VALUE=DATE:20160423
TRANSP:TRANSPARENT
X-MICROSOFT-CDO-ALLDAYEVENT:TRUE
SUMMARY:THE KIDS' TABLE - SPRING CAMP (3/28-4/1) and (4/18-4/22)
DESCRIPTION:Spring is springing - come celebrate the season by exploring the wonderful world of herbs! Kids will cook up different herbilicious dishes each day\, and plant seeds in newspaper pots to get the herb garden going at home.\n\n \nMenu:\n\nMarch 28 & April 18: Squash Ravioli with Sage-Infused \n\nBechamel\, Spring Panzanella Salad & Blackberry Thyme Lemonade\n\n\n\nMarch 29 & April 19: New England Style Potato Chowder & \n\nApple Lavender Crumble\n\n\n\nMarch 30 & April 20: Roasted Corn Empanadas with \n\nChimichurri\, Chips with Mango Salsa & Strawberry Basil Margaritas\n\n\n\nMarch 31 & April 21: Asparagus Dill Quiche & Lemon \n\nRosemary Scones\n\n\n\nApril 1 & April 22: Cheesy Tomato Pesto Panini & Raspberry \n\nMint Fool
X-ALT-DESC;FMTTYPE=text/html:<span style="color:rgb(55\, 55\, 55)\; font-family:didact gothic\; font-size:12.6px">Spring is springing - come celebrate the season by exploring the wonderful world of herbs! Kids will cook up different herbilicious dishes each day\, and plant seeds in newspaper pots to get the herb garden going at home.</span><br />\n&nbsp\;\n<h2>Menu:</h2>\n\n<p><strong>March 28 &amp\; April 18:&nbsp\;</strong>Squash Ravioli with Sage-Infused&nbsp\;<br />\nBechamel\, Spring Panzanella Salad &amp\; Blackberry Thyme Lemonade<br />\n<br />\n<strong>March 29 &amp\; April 19</strong>: New England Style Potato Chowder &amp\;&nbsp\;<br />\nApple&nbsp\;Lavender Crumble<br />\n<br />\n<strong>March 30 &amp\; April 20</strong>: Roasted Corn Empanadas with&nbsp\;<br />\nChimichurri\, Chips with Mango Salsa &amp\; Strawberry Basil Margaritas<br />\n<br />\n<strong>March 31 &amp\; April 21:&nbsp\;</strong>Asparagus Dill Quiche &amp\; Lemon&nbsp\;<br />\nRosemary Scones<br />\n<br />\n<strong>April 1 &amp\; April 22:&nbsp\;</strong>Cheesy Tomato Pesto Panini &amp\; Raspberry&nbsp\;<br />\nMint Fool</p>\n<br />\n<br />\n&nbsp\;
LOCATION:The Kids' Table - 2864 N Lincoln Ave\, Chicago 60657
UID:e.1819.2858
SEQUENCE:3
DTSTAMP:20260422T133733Z
URL:https://members.lakeviewroscoevillage.org/events/details/the-kids-table-spring-camp-3-28-4-1-and-4-18-4-22-03-28-2016-2858
END:VEVENT

END:VCALENDAR
