BEGIN:VCALENDAR
VERSION:2.0
PRODID:-//ChamberMaster//Event Calendar 2.0//EN
METHOD:PUBLISH
X-PUBLISHED-TTL:P3D
REFRESH-INTERVAL:P3D
CALSCALE:GREGORIAN
BEGIN:VEVENT
DTSTART:20140308T173000Z
DTEND:20140308T193000Z
X-MICROSOFT-CDO-ALLDAYEVENT:FALSE
SUMMARY:The Man Who Knew Too Much at The Music Box Theatre
DESCRIPTION:Hitchcock's original rendition of the melodramatic tale of a child's kidnap and recovery from spies trying to ensure her father's silence! While on holiday in Switzerland\, Jill Lawrence and her husband accidentally become involved in murder and intrigue\, when an undercover Secret Service agent whispers the whereabouts of a vital message to Lawrence\, as he lies dying from a gunshot wound. Besides affirming Hitchcock's genius\, it gave the brilliant Peter Lorre his first English-speaking role as (what else!) a slithery villain.
X-ALT-DESC;FMTTYPE=text/html:Hitchcock&rsquo\;s original rendition of the melodramatic tale of a child&rsquo\;s kidnap and recovery from spies trying to ensure her father&rsquo\;s silence! While on holiday in Switzerland\, Jill Lawrence and her husband accidentally become involved in murder and intrigue\, when an undercover Secret Service agent whispers the whereabouts of a vital message to Lawrence\, as he lies dying from a gunshot wound. Besides affirming Hitchcock&rsquo\;s genius\, it gave the brilliant Peter Lorre his first English-speaking role as (what else!) a slithery villain.
LOCATION:Music Box Theatre 3733 N. Southport Ave. Chicago\, IL 60613
UID:e.1819.226
SEQUENCE:3
DTSTAMP:20260424T141206Z
URL:https://members.lakeviewroscoevillage.org/events/details/the-man-who-knew-too-much-at-the-music-box-theatre-03-08-2014-226
END:VEVENT

END:VCALENDAR
