BEGIN:VCALENDAR
VERSION:2.0
PRODID:-//ChamberMaster//Event Calendar 2.0//EN
METHOD:PUBLISH
X-PUBLISHED-TTL:P3D
REFRESH-INTERVAL:P3D
CALSCALE:GREGORIAN
BEGIN:VEVENT
DTSTART;VALUE=DATE:20160801
DTEND;VALUE=DATE:20160828
TRANSP:TRANSPARENT
X-MICROSOFT-CDO-ALLDAYEVENT:TRUE
SUMMARY:The NEW American Writers Museum traveling exhibit: "From Our Neighborhoods"
DESCRIPTION:The writers featured in the American Writers Museum's traveling exhibit\, From Our Neighborhoods-Four Chicago Writers Who Changed America\, inspired social change in America by telling stories about the people they lived and worked with in Chicago   their hopes and dreams as well as the barriers they encountered and fought.These four authors lived where you live. They walked the same streets\, attended local schools\, and used the same libraries that we use today. They made everyday city life the subject of their writing. This exhibit is your invitation to read these authors and see your neighborhood and city in new ways. Gwendolyn Brooks broke the color barrier for the Pulitzer Prize in Poetry\, and mentored many younger writers and poets. Lorraine Hansberry's play\, A Raisin in the Sun\, helped spur a national fair housing policy. Louis "Studs" Terkel changed how history is written by seeking out and recording the lives of "uncelebrated" people. Richard Wright's novels and memoirs spotlighted American race relations and contributed to the Civil Rights Movement.\n\n\n\n \n\nThe new American Museum is opening\, Spring\, 2017 in downtown Chicago! \n\nhttp://americanwritersmuseum.org/from-our-neighborhoods/
X-ALT-DESC;FMTTYPE=text/html:<p style="margin-top: 0px\; margin-bottom: 0px\; color: rgb(0\, 0\, 0)\; font-family: Arial\, Helvetica\, sans-serif\; font-size: 16px\; line-height: normal\;"><font face="Calibri" size="3"><font face="Calibri" size="3"><span style="font-family: Arial\, Helvetica\, sans-serif\; font-size: 11pt\;">The writers featured in the American Writers Museum&rsquo\;s traveling exhibit</span></font></font><font face="Calibri" size="3"><font face="Calibri" size="3"><span style="font-family: Arial\, Helvetica\, sans-serif\; font-size: 11pt\;">\,&nbsp\;</span></font></font><b><font face="Calibri-Bold" size="3"><font face="Calibri-Bold" size="3"><span style="font-family: Arial\, Helvetica\, sans-serif\; font-size: 11pt\;">From Our Neighborhoods-</span></font></font></b><font face="Calibri-Bold" size="3"><font face="Calibri-Bold" size="3"><b><span style="font-family: Arial\, Helvetica\, sans-serif\; font-size: 11pt\;">Four Chicago Writers Who Changed America</span></b></font></font><font face="Calibri" size="3"><font face="Calibri" size="3"><span style="font-family: Arial\, Helvetica\, sans-serif\; font-size: 11pt\;">\, inspired social change in America by telling stories </span></font></font><font face="Calibri" size="3"><font face="Calibri" size="3"><span style="font-family: Arial\, Helvetica\, sans-serif\; font-size: 11pt\;">about&nbsp\;</span></font></font><font face="Calibri" size="3"><font face="Calibri" size="3"><span style="font-family: Arial\, Helvetica\, sans-serif\; font-size: 11pt\;">the</span></font></font><font face="Calibri" size="3"><font face="Calibri" size="3"><span style="font-family: Arial\, Helvetica\, sans-serif\; font-size: 11pt\;"> people they lived and worked with in Chicago&nbsp\;</span></font></font><font face="Calibri" size="3"><font face="Calibri" size="3"><span style="font-family: Arial\, Helvetica\, sans-serif\; font-size: 11pt\;">&ndash\;&nbsp\;</span></font></font><font face="Calibri" size="3"><font face="Calibri" size="3"><span style="font-family: Arial\, Helvetica\, sans-serif\; font-size: 11pt\;">their hopes and dreams as well as the barriers they&nbsp\;</span></font></font><font face="Calibri" style="color: rgb(0\, 0\, 0)\; font-size: 16px\; line-height: normal\;"><font face="Calibri" size="3"><span style="font-family: Arial\, Helvetica\, sans-serif\; font-size: 11pt\;">encountered and fought.</span></font></font><font face="Calibri" style="color: rgb(0\, 0\, 0)\; font-size: 16px\; line-height: normal\;"><font face="Calibri" size="3"><span style="font-family: Arial\, Helvetica\, sans-serif\; font-size: 11pt\;">These four authors lived where you live. They walked the same streets\, attended local schools\, and used&nbsp\;</span></font></font><font face="Calibri" style="color: rgb(0\, 0\, 0)\; font-size: 16px\; line-height: normal\;"><font face="Calibri" size="3"><span style="font-family: Arial\, Helvetica\, sans-serif\; font-size: 11pt\;">the same libraries that we use today. They made everyday city life the subject of their writing. This&nbsp\;</span></font></font><font face="Calibri" style="color: rgb(0\, 0\, 0)\; font-size: 16px\; line-height: normal\;"><font face="Calibri" size="3"><span style="font-family: Arial\, Helvetica\, sans-serif\; font-size: 11pt\;">exhibit is your invitation to read these authors and see your neighborhood and city in new ways.&nbsp\;</span></font></font><font face="Calibri-Bold" size="3"><font face="Calibri-Bold" size="3"><b><span style="font-family: Arial\, Helvetica\, sans-serif\; font-size: 11pt\;">Gwendolyn Brooks&nbsp\;</span></b></font></font><font face="Calibri" size="3"><font face="Calibri" size="3"><span style="font-family: Arial\, Helvetica\, sans-serif\; font-size: 11pt\;">broke the color barrier for the Pulitzer&nbsp\;Prize in Poetry\, and mentored many younger&nbsp\;</span></font></font><font face="Calibri" style="color: rgb(0\, 0\, 0)\; font-size: 16px\; line-height: normal\;"><font face="Calibri" size="3"><span style="font-family: Arial\, Helvetica\, sans-serif\; font-size: 11pt\;">writers and poets.&nbsp\;</span></font></font><font face="Calibri-Bold" size="3"><font face="Calibri-Bold" size="3"><b><span style="font-family: Arial\, Helvetica\, sans-serif\; font-size: 11pt\;">Lorraine Hansberry</span></b></font></font><font face="Calibri" size="3"><font face="Calibri" size="3"><span style="font-family: Arial\, Helvetica\, sans-serif\; font-size: 11pt\;">&rsquo\;s play\,&nbsp\;</span></font></font><i><font face="Calibri-Italic" size="3"><font face="Calibri-Italic" size="3"><span style="font-family: Arial\, Helvetica\, sans-serif\; font-size: 11pt\;">A Raisin in the Sun</span></font></font></i><font face="Calibri" size="3"><font face="Calibri" size="3"><span style="font-family: Arial\, Helvetica\, sans-serif\; font-size: 11pt\;">\, helped spur a national fair housing policy.&nbsp\;</span></font></font><font face="Calibri-Bold" size="3"><font face="Calibri-Bold" size="3"><b><span style="font-family: Arial\, Helvetica\, sans-serif\; font-size: 11pt\;">Louis &ldquo\;Studs&rdquo\; Terkel&nbsp\;</span></b></font></font><font face="Calibri" size="3"><font face="Calibri" size="3"><span style="font-family: Arial\, Helvetica\, sans-serif\; font-size: 11pt\;">changed how history is written by seeking out and recording the lives of&nbsp\;</span></font></font><font face="Calibri" style="color: rgb(0\, 0\, 0)\; font-size: 16px\; line-height: normal\;"><font face="Calibri" size="3"><span style="font-family: Arial\, Helvetica\, sans-serif\; font-size: 11pt\;">&ldquo\;uncelebrated&rdquo\; people.&nbsp\;</span></font></font><font face="Calibri-Bold" size="3"><font face="Calibri-Bold" size="3"><b><span style="font-family: Arial\, Helvetica\, sans-serif\; font-size: 11pt\;">Richard Wright</span></b></font></font><font face="Calibri" size="3"><font face="Calibri" size="3"><span style="font-family: Arial\, Helvetica\, sans-serif\; font-size: 11pt\;">&rsquo\;s novels a</span></font></font><font face="Calibri" size="3"><font face="Calibri" size="3"><span style="font-family: Arial\, Helvetica\, sans-serif\; font-size: 11pt\;">nd memoirs spotlighted American&nbsp\;race relations and contributed to the Civil&nbsp\;</span></font></font><font face="Calibri" style="color: rgb(0\, 0\, 0)\; font-size: 16px\; line-height: normal\;"><font face="Calibri" size="3"><span style="font-family: Arial\, Helvetica\, sans-serif\; font-size: 11pt\;">Rights Movement.</span></font></font><br />\n<br />\n&nbsp\;</p>\n\n<p align="LEFT" style="margin-top: 0px\; margin-bottom: 0px\; color: rgb(0\, 0\, 0)\; font-family: Arial\, Helvetica\, sans-serif\; font-size: 16px\; line-height: normal\;"><span style="font-size: 12pt\;">Th</span>e new American Museum is opening\, Spring\, 2017 in downtown Chicago!&nbsp\;</p>\n\n<p align="LEFT" style="margin-top: 0px\; margin-bottom: 0px\; color: rgb(0\, 0\, 0)\; font-family: Arial\, Helvetica\, sans-serif\; font-size: 16px\; line-height: normal\;"><a href="http://americanwritersmuseum.org/from-our-neighborhoods/" style="color: rgb(17\, 85\, 204)\;" target="_blank">http://americanwritersmuseum.<wbr />org/from-our-neighborhoods/</a></p>\n
LOCATION:Chicago Public Library-Lincoln Belmont Branch 1659 W. Melrose Street\, Chicago IL\, 60657
UID:e.1819.3516
SEQUENCE:3
DTSTAMP:20260422T062730Z
URL:https://members.lakeviewroscoevillage.org/events/details/the-new-american-writers-museum-traveling-exhibit-from-our-neighborhoods-08-01-2016-3516
END:VEVENT

END:VCALENDAR
