BEGIN:VCALENDAR
VERSION:2.0
PRODID:-//ChamberMaster//Event Calendar 2.0//EN
METHOD:PUBLISH
X-PUBLISHED-TTL:P3D
REFRESH-INTERVAL:P3D
CALSCALE:GREGORIAN
BEGIN:VEVENT
DTSTART;VALUE=DATE:20160826
DTEND;VALUE=DATE:20160827
TRANSP:TRANSPARENT
X-MICROSOFT-CDO-ALLDAYEVENT:TRUE
SUMMARY:The Pony Anniversary Party
DESCRIPTION:Friday\, August 26th\, 2016 \n\n\n\nCustomer appreciation party \n\nAnniversay Specials: 5pm-9pm \n\n\n\n$1 Draft beer \n\n$1 Pizza slices \n\n$2 Margaritas \n\n$2 Sour Whiskey Punch \n\n$ 2 Lagunitas Pils In a frosty Mug (All night)
X-ALT-DESC;FMTTYPE=text/html:Friday\, August 26th\, 2016&nbsp\;<br />\n<br />\nCustomer appreciation party&nbsp\;<br />\nAnniversay Specials: 5pm-9pm&nbsp\;<br />\n<br />\n$1 Draft beer&nbsp\;<br />\n$1 Pizza slices&nbsp\;<br />\n$2 Margaritas&nbsp\;<br />\n$2 Sour Whiskey Punch&nbsp\;<br />\n$ 2 Lagunitas Pils In a frosty Mug (All night)&nbsp\;
LOCATION:1638 W. Belmont
UID:e.1819.3572
SEQUENCE:3
DTSTAMP:20260422T074934Z
URL:https://members.lakeviewroscoevillage.org/events/details/the-pony-anniversary-party-08-26-2016-3572
END:VEVENT

END:VCALENDAR
