BEGIN:VCALENDAR
VERSION:2.0
PRODID:-//ChamberMaster//Event Calendar 2.0//EN
METHOD:PUBLISH
X-PUBLISHED-TTL:P3D
REFRESH-INTERVAL:P3D
CALSCALE:GREGORIAN
BEGIN:VEVENT
DTSTART:20150724T150000Z
DTEND:20150724T230000Z
X-MICROSOFT-CDO-ALLDAYEVENT:FALSE
SUMMARY:The Red Balloon Co.'s Annual Trunk Show is right around the corner!
DESCRIPTION:The Red Balloon Co.'s Annual Fall Trunk Show is starting soon!\n\nSchedule your appointment to solve all of your ?# kidsclothingconundrums? with your favorite brands: Millions of Colors\, La Miniatura\, Fore\, Kapital K\, and more!\n\nBucktown- July 17th - 23rd\n\nSouthport Corridor- July 24th - 31st\nCall us toll free 855-489-9800 or email us for further details.\n\ninfo@theredballoon.com
X-ALT-DESC;FMTTYPE=text/html:<p>The Red Balloon Co.&#39\;s Annual Fall Trunk Show is starting soon!</p>\n\n<p>Schedule your appointment to solve all of your <a class="_58cn" href="https://www.facebook.com/hashtag/kidsclothingconundrums?source=feed_text&amp\;story_id=10155761314485035">?#&lrm\;kidsclothingconundrums?</a> with your favorite brands: Millions of Colors\, La Miniatura\, Fore\, Kapital K\, and more!</p>\n\n<p>Bucktown- July 17th - 23rd<br />\nSouthport Corridor- July 24th - 31st</p>\nCall us toll free 855-489-9800 or email us for further details.<br />\ninfo@theredballoon.com
LOCATION:3651 N. Southport Ave. Chicago\, IL 60613
UID:e.1819.1787
SEQUENCE:3
DTSTAMP:20260423T061206Z
URL:https://members.lakeviewroscoevillage.org/events/details/the-red-balloon-co-s-annual-trunk-show-is-right-around-the-corner-07-24-2015-1787
END:VEVENT

END:VCALENDAR
