BEGIN:VCALENDAR
VERSION:2.0
PRODID:-//ChamberMaster//Event Calendar 2.0//EN
METHOD:PUBLISH
X-PUBLISHED-TTL:P3D
REFRESH-INTERVAL:P3D
CALSCALE:GREGORIAN
BEGIN:VEVENT
DTSTART:20151107T160000Z
DTEND:20151107T230000Z
X-MICROSOFT-CDO-ALLDAYEVENT:FALSE
SUMMARY:The Red Balloon Co. Warehouse Sale!
DESCRIPTION:Kids' clothes as cheap as $5? \n\nJoin us at 3912 N. Lincoln Ave. for major markdown prices on kids tees\, dresses\, pants and coats from\n\nour top boutique vendors\, sizes newborn to 14yrs! \n\nThursday\, Nov. 5th\, 10-6pm\n\nFriday\, Nov. 6th\, 10-6pm\n\nSaturday\, Nov. 7th\, 10-5pm\n\nSunday\, Nov. 8th\, 10-5pm
X-ALT-DESC;FMTTYPE=text/html:Kids&#39\; clothes as cheap as $5?&nbsp\;<br />\nJoin us at 3912 N. Lincoln Ave. for major markdown prices on kids tees\, dresses\, pants and coats from<br />\nour top boutique vendors\, sizes newborn to 14yrs!&nbsp\;<br />\nThursday\, Nov. 5th\, 10-6pm<br />\nFriday\, Nov. 6th\, 10-6pm<br />\nSaturday\, Nov. 7th\, 10-5pm<br />\nSunday\, Nov. 8th\, 10-5pm
LOCATION:3912 N Lincoln Ave\, Chicago\, IL 60613
UID:e.1819.2242
SEQUENCE:3
DTSTAMP:20260422T223933Z
URL:https://members.lakeviewroscoevillage.org/events/details/the-red-balloon-co-warehouse-sale-11-07-2015-2242
END:VEVENT

END:VCALENDAR
