BEGIN:VCALENDAR
VERSION:2.0
PRODID:-//ChamberMaster//Event Calendar 2.0//EN
METHOD:PUBLISH
X-PUBLISHED-TTL:P3D
REFRESH-INTERVAL:P3D
CALSCALE:GREGORIAN
BEGIN:VEVENT
DTSTART;VALUE=DATE:20140529
DTEND;VALUE=DATE:20140714
TRANSP:TRANSPARENT
X-MICROSOFT-CDO-ALLDAYEVENT:TRUE
SUMMARY:Theater Wit Presents: Caged Dames
DESCRIPTION:A deliriously campy musical parody inspired by the noir prison films of the 40's\, Caged Dames is the gripping tale of average housewife Mary Anderson\, who lands in the Calumet City Women's Penitentiary. There\, she battles a sadistic\, prison matron\, shocking dames\, and a failed prison system.\n\nRunning Time: 1 hour 40 minutes with intermission
X-ALT-DESC;FMTTYPE=text/html:<p>A deliriously campy musical parody inspired by the noir prison films of the 40&#39\;s\, <i>Caged Dames</i> is the gripping tale of average housewife Mary Anderson\, who lands in the Calumet City Women&#39\;s Penitentiary. There\, she battles a sadistic\, prison matron\, shocking dames\, and a failed prison system.</p>\n\n<p class="running_time">Running Time: 1 hour 40 minutes with intermission</p>\n
LOCATION:Theater Wit 1229 W Belmont Ave Chicago\, IL 60657
UID:e.1819.253
SEQUENCE:3
DTSTAMP:20260424T050736Z
URL:https://members.lakeviewroscoevillage.org/events/details/theater-wit-presents-caged-dames-05-29-2014-253
END:VEVENT

END:VCALENDAR
