BEGIN:VCALENDAR
VERSION:2.0
PRODID:-//ChamberMaster//Event Calendar 2.0//EN
METHOD:PUBLISH
X-PUBLISHED-TTL:P3D
REFRESH-INTERVAL:P3D
CALSCALE:GREGORIAN
BEGIN:VEVENT
DTSTART;VALUE=DATE:20140424
DTEND;VALUE=DATE:20140608
TRANSP:TRANSPARENT
X-MICROSOFT-CDO-ALLDAYEVENT:TRUE
SUMMARY:Theater Wit Presents: Sally Nemeth's Mill Fire
DESCRIPTION:Sally Nemeth's Mill Fire takes audiences to Birmingham\, Alabama\, circa 1978. As the town struggles to mourn the loss of several factory workers in a mysterious accident\, widow Marlene refuses both the pressure to grieve as convention dictates and the blood money offered by the mill's owners. With an ever-shifting temporal landscape that shapes the story through flashback and memory\, a Greek chorus of fellow widows\, and emotionally charged familial subplots\, Mill Fire examines the many definitions of sorrow and the complexities of moving on.\n\n"The characters of Mill Fire are classic Shattered Globe roles. They're passionate and complex people wrestling with ethical issues while their backs are up against the wall\," comments director Sandy Shinner. "Mill Fire explores a community who fears their livelihood is about to slip away. Initially divided by blame and grief\, they eventually summon the strength to come to a place of understanding\, love and\, finally\, forgiveness."\n\n\nRunning Time: 2 hours 15 minutes with intermissionThere is no late seating available for this production.
X-ALT-DESC;FMTTYPE=text/html:<p>Sally Nemeth&rsquo\;s <i>Mill Fire</i> takes audiences to Birmingham\, Alabama\, circa 1978. As the town struggles to mourn the loss of several factory workers in a mysterious accident\, widow Marlene refuses both the pressure to grieve as convention dictates and the blood money offered by the mill&rsquo\;s owners. With an ever-shifting temporal landscape that shapes the story through flashback and memory\, a Greek chorus of fellow widows\, and emotionally charged familial subplots\, <i>Mill Fire</i> examines the many definitions of sorrow and the complexities of moving on.</p>\n\n<p>&quot\;The characters of <i>Mill Fire</i> are classic Shattered Globe roles. They&#39\;re passionate and complex people wrestling with ethical issues while their backs are up against the wall\,&quot\; comments director Sandy Shinner. &quot\;<i>Mill Fire</i> explores a community who fears their livelihood is about to slip away. Initially divided by blame and grief\, they eventually summon the strength to come to a place of understanding\, love and\, finally\, forgiveness.&quot\;</p>\n<br />\nRunning Time: 2 hours 15 minutes with intermission<span class="production_information">There</span><span class="production_information"> is no late seating available for this production.</span>
LOCATION:1229 W Belmont Ave Chicago\, IL 60657
UID:e.1819.254
SEQUENCE:3
DTSTAMP:20260424T073824Z
URL:https://members.lakeviewroscoevillage.org/events/details/theater-wit-presents-sally-nemeth-s-mill-fire-04-24-2014-254
END:VEVENT

END:VCALENDAR
