BEGIN:VCALENDAR
VERSION:2.0
PRODID:-//ChamberMaster//Event Calendar 2.0//EN
METHOD:PUBLISH
X-PUBLISHED-TTL:P3D
REFRESH-INTERVAL:P3D
CALSCALE:GREGORIAN
BEGIN:VEVENT
DTSTART;VALUE=DATE:20140327
DTEND;VALUE=DATE:20140428
TRANSP:TRANSPARENT
X-MICROSOFT-CDO-ALLDAYEVENT:TRUE
SUMMARY:Theater Wit Presents: Seven Homeless Mammoths Wander New England
DESCRIPTION:Deen Wreen is having a difficult week. Her campus renovations are meeting stiff resistance from the town and her ex has returned to live with her. This complicates her relationship with Andromeda\, her new (and much younger) girlfriend. An examination of the relationships we build\, the choices we make and how we say goodbye\, Artistic Director Jeremy Wechsler\, returns to the world of love and academia after last season's hit\, Completeness. Museums\, romance\, politics and yes\, seven enormous mammoths collide in in this academic sex comedy by one of America's most fun and original new voices.
X-ALT-DESC;FMTTYPE=text/html:<p>Deen Wreen is having a difficult week. Her campus renovations are meeting stiff resistance from the town and her ex has returned to live with her. This complicates her relationship with Andromeda\, her new (and much younger) girlfriend. An examination of the relationships we build\, the choices we make and how we say goodbye\, Artistic Director Jeremy Wechsler\, returns to the world of love and academia after last season&rsquo\;s hit\, <em>Completeness.</em> Museums\, romance\, politics and yes\, seven enormous mammoths collide in in this academic sex comedy by one of America&rsquo\;s most fun and original new voices.</p>\n\n<p>&nbsp\;</p>\n
LOCATION:Theater Wit | 1229 W Belmont\, Chicago IL 60657
UID:e.1819.252
SEQUENCE:3
DTSTAMP:20260424T135844Z
URL:https://members.lakeviewroscoevillage.org/events/details/theater-wit-presents-seven-homeless-mammoths-wander-new-england-03-27-2014-252
END:VEVENT

END:VCALENDAR
