BEGIN:VCALENDAR
VERSION:2.0
PRODID:-//ChamberMaster//Event Calendar 2.0//EN
METHOD:PUBLISH
X-PUBLISHED-TTL:P3D
REFRESH-INTERVAL:P3D
CALSCALE:GREGORIAN
BEGIN:VEVENT
DTSTART:20170520T160000Z
DTEND:20170520T220000Z
X-MICROSOFT-CDO-ALLDAYEVENT:FALSE
SUMMARY:Theo Eyewear Trunk Show!
DESCRIPTION:Lovers of unique eyewear unite! The Theo trunk show is here and we guarantee it won't dissappoint. \n\nTheo eyewear is always so fun to see in person because of their bright and funky colors and outstanding shapes and this is your chance to try on their latest and greatest. These frames are anything but ordinary!\n\n\n\nSo stop by the shop between 11am and 5pm on Saturday\, May 20th and we will help you find your new favorite frame!\n\n\n\nClick here for more info.
X-ALT-DESC;FMTTYPE=text/html:<div><span style="background-color:rgb(255\, 255\, 255)\; color:rgb(75\, 79\, 86)\; font-family:helvetica\,arial\,sans-serif\; font-size:14px">Lovers of unique eyewear unite! The <a href="http://theo.be">Theo</a> trunk show is here and we guarantee it won&#39\;t dissappoint. </span><br />\n<a href="https://www.facebook.com/theo.eyewear/" style="color: rgb(54\, 88\, 153)\; cursor: pointer\; text-decoration: none\; font-family: Helvetica\, Arial\, sans-serif\; font-size: 14px\; font-style: normal\; font-variant-ligatures: normal\; font-variant-caps: normal\; font-weight: normal\; letter-spacing: normal\; orphans: 2\; text-align: start\; text-indent: 0px\; text-transform: none\; white-space: normal\; widows: 2\; word-spacing: 0px\; -webkit-text-stroke-width: 0px\; background-color: rgb(255\, 255\, 255)\;">Theo eyewear</a><span style="background-color:rgb(255\, 255\, 255)\; color:rgb(75\, 79\, 86)\; font-family:helvetica\,arial\,sans-serif\; font-size:14px"> is always so fun to see in person because of their bright and funky colors and outstanding <span style="font-family:arial\,helvetica\,sans-serif">shapes and this is your chance to try on </span>their latest and greatest. These frames are anything but ordinary!</span><br />\n<br />\n<span style="font-size:14px"><span style="font-family:arial\,helvetica\,sans-serif">So stop by the shop between 11am and 5pm on Saturday\, May 20th and we will help you find your new favorite frame</span></span>!<br />\n<br />\n<a href="http://eyespyoptical.com/events/crazy-colorful-theo-trunk-show">Click here for more info</a>.</div>\n
LOCATION:Eye Spy Optical 3350 N Lincoln Ave Chicago IL 60657
UID:e.1819.5162
SEQUENCE:3
DTSTAMP:20260419T220450Z
URL:https://members.lakeviewroscoevillage.org/events/details/theo-eyewear-trunk-show-05-20-2017-5162
END:VEVENT

END:VCALENDAR
