BEGIN:VCALENDAR
VERSION:2.0
PRODID:-//ChamberMaster//Event Calendar 2.0//EN
METHOD:PUBLISH
X-PUBLISHED-TTL:P3D
REFRESH-INTERVAL:P3D
CALSCALE:GREGORIAN
BEGIN:VEVENT
DTSTART:20171125T170000Z
DTEND:20171125T230000Z
X-MICROSOFT-CDO-ALLDAYEVENT:FALSE
SUMMARY:Theo Eyewear Trunk Show at Eye Spy Optical!
DESCRIPTION:Eye Spy Optical's final week of November Trunk Shows brings a fan favorite...Theo! And trust us when we say that you will want to be there! The latest and greatest from their new 2018 collection are must-see!\n\n\n\n\n \n\n\n\nThey say that fortune favors the bold...and in Theo eyewear\, you will certainly be both!\n\n\n\nJoin us on Saturday\, November 25th from 11am - 5pm and prepare to be dazzled!\n\n\n\n\nCan't make it in on Saturday? Schedule a private appointment on Sunday\, Nov. 26 via email or phone 773-477-2670.
X-ALT-DESC;FMTTYPE=text/html:<div>\n<div><span style="font-size:14px"><span style="font-family:inherit">Eye Spy Optical&#39\;s final week of November Trunk Shows brings a fan favorite...Theo! A</span></span><span style="font-family:inherit\; font-size:14px">nd trust us when we say that you will want to be there!&nbsp\;</span><span style="font-family:inherit\; font-size:14px">The latest and greatest from their new 2018 collection are must-see!</span></div>\n</div>\n\n<div>\n<div>\n<div>&nbsp\;</div>\n</div>\n\n<div>\n<div><span style="font-size:14px"><span style="font-family:inherit">They say that fortune favors the bold...and in Theo eyewear\, you will certainly be both!<br />\n<br />\nJoin us on Saturday\, November 25th from 11am - 5pm and prepare to be dazzled!</span></span></div>\n</div>\n</div>\n<br />\n<span style="color:rgb(75\, 79\, 86)\; font-family:helvetica\,arial\,sans-serif\; font-size:14px">Can&#39\;t make it in on Saturday? Schedule a private appointment on Sunday\, Nov. 26 via email or phone 773-477-2670.&nbsp\;</span>&nbsp\;&nbsp\;&nbsp\;&nbsp\;
LOCATION:Eye Spy Optical 3350 N Lincoln Ave Chicago\, IL 60657
UID:e.1819.11199
SEQUENCE:3
DTSTAMP:20260419T143119Z
URL:https://members.lakeviewroscoevillage.org/events/details/theo-eyewear-trunk-show-at-eye-spy-optical-11-25-2017-11199
END:VEVENT

END:VCALENDAR
