BEGIN:VCALENDAR
VERSION:2.0
PRODID:-//ChamberMaster//Event Calendar 2.0//EN
METHOD:PUBLISH
X-PUBLISHED-TTL:P3D
REFRESH-INTERVAL:P3D
CALSCALE:GREGORIAN
BEGIN:VEVENT
DTSTART:20150627T160000Z
DTEND:20150627T200000Z
X-MICROSOFT-CDO-ALLDAYEVENT:FALSE
SUMMARY:Third Annual Sidewalk Art Contest
DESCRIPTION:Join us for our Third Annual Sidewalk Art Contest!\n\nCalling all artists! Stop by our Bucktown and Southport stores this Saturday for another fun\, free\, family event. All ages can participate! All sidewalk art will be featured on our Facebook page. Whoever gets the most "likes" will win a $25 gift card! \n\nSee you there!\n\n\n\nSouthport- 3651 N. Southport Ave.\n\nBucktown- 1940 N. Damen Ave.\n\n\nPlus\, celebrate the 4th of July & take 20% off all red\, white & blue apparel! Now until July 3rd!
X-ALT-DESC;FMTTYPE=text/html:<p>Join us for our Third Annual Sidewalk Art Contest!</p>\n\n<p>Calling all artists! Stop by our Bucktown and Southport stores this Saturday for another fun\, free\, family event. All ages can participate! All sidewalk art will be featured on our Facebook page. Whoever gets the most &quot\;likes&quot\; will win a $25 gift card!&nbsp\;<br />\nSee you there!<br />\n<br />\nSouthport- 3651 N. Southport Ave.<br />\nBucktown- 1940 N. Damen Ave.</p>\n\n<div>\n<p>Plus\, celebrate the 4th of July &amp\; take 20% off all red\, white &amp\; blue apparel! Now until July 3rd!</p>\n</div>\n
LOCATION:The Red Balloon Co.
UID:e.1819.1776
SEQUENCE:3
DTSTAMP:20260423T073713Z
URL:https://members.lakeviewroscoevillage.org/events/details/third-annual-sidewalk-art-contest-06-27-2015-1776
END:VEVENT

END:VCALENDAR
