BEGIN:VCALENDAR
VERSION:2.0
PRODID:-//ChamberMaster//Event Calendar 2.0//EN
METHOD:PUBLISH
X-PUBLISHED-TTL:P3D
REFRESH-INTERVAL:P3D
CALSCALE:GREGORIAN
BEGIN:VEVENT
DTSTART:20161230T020000Z
DTEND:20161230T040000Z
X-MICROSOFT-CDO-ALLDAYEVENT:FALSE
SUMMARY:Thursday Bingo at Diag Bar & Grill!
DESCRIPTION:Join us as we host Bingo each and every Thursday at Diag starting at 8pm. Complimentary Bingo cards and markers will be dispersed. Our wonderful host\, AK will give out prizes to the winners\, change up the rules each round and will make you laugh along the way!\n\n\n\nEnjoy our Thursday food and drink specials while winning fun prizes! Prizes differ week by week and round by round making it all the more exciting.\n\n\n\nShould you have a large group\, feel free to reach out to Mikaela@diagchicago.com who will happily reserve space for you.
X-ALT-DESC;FMTTYPE=text/html:Join us as we host Bingo each and every Thursday at Diag starting at 8pm. Complimentary Bingo cards and markers will be dispersed. Our wonderful host\, AK will give out prizes to the winners\, change up the rules each round and will make you laugh along the way!<br />\n<br />\nEnjoy our Thursday food and drink specials while winning fun prizes! Prizes differ week by week and round by round making it all the more exciting.<br />\n<br />\nShould you have a large group\, feel free to reach out to Mikaela@diagchicago.com who will happily reserve space for you.
LOCATION:Diag Bar & Grill 2856 N Southport Avennue Chicago\, IL 60657
UID:e.1819.4645
SEQUENCE:3
DTSTAMP:20260420T064317Z
URL:https://members.lakeviewroscoevillage.org/events/details/thursday-bingo-at-diag-bar-grill-12-29-2016-4645
END:VEVENT

END:VCALENDAR
