BEGIN:VCALENDAR
VERSION:2.0
PRODID:-//ChamberMaster//Event Calendar 2.0//EN
METHOD:PUBLISH
X-PUBLISHED-TTL:P3D
REFRESH-INTERVAL:P3D
CALSCALE:GREGORIAN
BEGIN:VEVENT
DTSTART;VALUE=DATE:20131204
DTEND;VALUE=DATE:20131207
TRANSP:TRANSPARENT
X-MICROSOFT-CDO-ALLDAYEVENT:TRUE
SUMMARY:Tibetan Cultural Event at Samgha Yoga
DESCRIPTION:Drepung Gomang Monastery 2013 Chicago\n\nVisit this 3 day event and participate in various classes and activities. An Open House will be offered daily from 10am to 4pm. Please view the attached flyers for specific programs\, times\, and costs.\n\n\n\nDrepung Gomang Monastery Flyer\n\nChildren's Flyer\n\nAdult's Flyer
X-ALT-DESC;FMTTYPE=text/html:<strong>Drepung Gomang Monastery 2013 Chicago</strong><br />\nVisit this 3 day event and participate in various classes and activities. An Open House will be offered daily from 10am to 4pm. Please view the attached flyers for specific programs\, times\, and costs.<br />\n<br />\n<a href="http://cloud.chambermaster.com/userfiles/UserFiles/chambers/1819/File/MonksProgram2Large.jpg">Drepung Gomang Monastery Flyer</a><br />\n<a href="http://cloud.chambermaster.com/userfiles/UserFiles/chambers/1819/File/MonksKids1small.jpeg">Children&#39\;s Flyer</a><br />\n<a href="http://cloud.chambermaster.com/userfiles/UserFiles/chambers/1819/File/MonksAdultsmall.jpg">Adult&#39\;s Flyer</a>
LOCATION:Samgha Yoga 2961 N. Lincoln Ave.
UID:e.1819.132
SEQUENCE:3
DTSTAMP:20260424T191026Z
URL:https://members.lakeviewroscoevillage.org/events/details/tibetan-cultural-event-at-samgha-yoga-12-04-2013-132
END:VEVENT

END:VCALENDAR
