BEGIN:VCALENDAR
VERSION:2.0
PRODID:-//ChamberMaster//Event Calendar 2.0//EN
METHOD:PUBLISH
X-PUBLISHED-TTL:P3D
REFRESH-INTERVAL:P3D
CALSCALE:GREGORIAN
BEGIN:VEVENT
DTSTART:20141010T220000Z
DTEND:20141011T213000Z
X-MICROSOFT-CDO-ALLDAYEVENT:FALSE
SUMMARY:Tilt Mansion Centennial Tours
DESCRIPTION:Have you ever wondered what that big mansion is on the corner of Addison and Broadway in Wrigleyville? Do you want to know more about the historic Tilt Mansion? Or do you know what it is and it holds special memories for you? Come celebrate the 100th birthday of The Salvation Army's Booth Mansion! Tour the historic Tilt Mansion now owned by The Salvation Army\, delve into its rich heritage\, enjoy dramatic vignettes\, and purchase a limited edition collectible commemorative coin! Tours available Friday\, October 10 from 5:00 PM - 7:30 PM and Saturday\, October 11 from 11:00 AM - 4:30 PM. All funds raised go to The Salvation Army overseas missions. Free parking for up to two hours. Easily accessible by public transportation. Limited handicap accessibility.
X-ALT-DESC;FMTTYPE=text/html:Have you ever wondered what that big mansion is on the corner of Addison and Broadway in Wrigleyville? Do you want to know more about the historic Tilt Mansion? Or do you know what it is and it holds special memories for you? Come celebrate the 100th birthday of The Salvation Army&#39\;s Booth Mansion! Tour the historic Tilt Mansion now owned by The Salvation Army\, delve into its rich heritage\, enjoy dramatic vignettes\, and purchase a limited edition collectible commemorative coin! Tours available Friday\, October 10 from 5:00 PM - 7:30 PM and Saturday\, October 11 from 11:00 AM - 4:30 PM. All funds raised go to The Salvation Army overseas missions. Free parking for up to two hours. Easily accessible by public transportation. Limited handicap accessibility.
LOCATION:The Salvation Army College for Officer Training 700 W. Brompton Ave. Chicago\, IL 60651
UID:e.1819.504
SEQUENCE:3
DTSTAMP:20260423T224923Z
URL:https://members.lakeviewroscoevillage.org/events/details/tilt-mansion-centennial-tours-10-10-2014-504
END:VEVENT

END:VCALENDAR
