BEGIN:VCALENDAR
VERSION:2.0
PRODID:-//ChamberMaster//Event Calendar 2.0//EN
METHOD:PUBLISH
X-PUBLISHED-TTL:P3D
REFRESH-INTERVAL:P3D
CALSCALE:GREGORIAN
BEGIN:VEVENT
DTSTART;VALUE=DATE:20171106
DTEND;VALUE=DATE:20171216
TRANSP:TRANSPARENT
X-MICROSOFT-CDO-ALLDAYEVENT:TRUE
SUMMARY:Toy Drive for KT's Kids!
DESCRIPTION:Each winter\, KT's Kids throws the kids of KidsRehab a holiday party to give them all of the donations we've raised each year during our Toy Drive. We invite all of the children in the household\, not just patients. Every child gets two gifts (one fun\, one practical)\, and Mom gets a $20 Target gift card. Many moms tell us we're the only holiday celebration their children have. Last year they hosted 600+ kids.KidsRehab at Schwab Rehabilitation\, from infants to teens. The kids are predominately low income\, many have been violently injured.
X-ALT-DESC;FMTTYPE=text/html:Each winter\, KT&rsquo\;s Kids throws the kids of KidsRehab a holiday party to give them all of the donations we&rsquo\;ve raised each year during our Toy Drive. We invite all of the children in the household\, not just patients. Every child gets two gifts (one fun\, one practical)\, and Mom gets a $20 Target gift card. Many moms tell us we&rsquo\;re the only holiday celebration their children have. Last year they hosted 600+ kids.KidsRehab at Schwab Rehabilitation\, from infants to teens. The kids are predominately low income\, many have been violently injured.
LOCATION:3701 N Ravenswood Ave #247 Chicago\, IL 60613
UID:e.1819.11171
SEQUENCE:3
DTSTAMP:20260419T124524Z
URL:https://members.lakeviewroscoevillage.org/events/details/toy-drive-for-kt-s-kids-11-06-2017-11171
END:VEVENT

END:VCALENDAR
