BEGIN:VCALENDAR
VERSION:2.0
PRODID:-//ChamberMaster//Event Calendar 2.0//EN
METHOD:PUBLISH
X-PUBLISHED-TTL:P3D
REFRESH-INTERVAL:P3D
CALSCALE:GREGORIAN
BEGIN:VEVENT
DTSTART:20151025T180000Z
DTEND:20151025T210000Z
X-MICROSOFT-CDO-ALLDAYEVENT:FALSE
SUMMARY:Trick or Treat on Southport
DESCRIPTION:The neighborhood's favorite fall tradition returns in 2015! Trick or Treat on Southport kicks off Halloween one week early with free\, family-friendly activities and trick-or-treating at local businesses. Arrive early to take advantage of discounts at retailers and restaurants along the street.\n\n\n\nLearn More
X-ALT-DESC;FMTTYPE=text/html:The neighborhood&#39\;s favorite fall tradition returns in 2015! Trick or Treat on Southport kicks off Halloween one week early with free\, family-friendly activities and trick-or-treating at local businesses. Arrive early to take advantage of discounts at retailers and restaurants along the street.<br />\n<br />\n<a href="http://www.lakeviewchamber.com/events/trick-or-treat-on-southport.aspx">Learn More&nbsp\;&raquo\;</a>
LOCATION:Southport between Belmont and Irving Park
UID:e.1819.1810
SEQUENCE:3
DTSTAMP:20260423T021151Z
URL:https://members.lakeviewroscoevillage.org/events/details/trick-or-treat-on-southport-10-25-2015-1810
END:VEVENT

END:VCALENDAR
