BEGIN:VCALENDAR
VERSION:2.0
PRODID:-//ChamberMaster//Event Calendar 2.0//EN
METHOD:PUBLISH
X-PUBLISHED-TTL:P3D
REFRESH-INTERVAL:P3D
CALSCALE:GREGORIAN
BEGIN:VEVENT
DTSTART:20141026T180000Z
DTEND:20141026T210000Z
X-MICROSOFT-CDO-ALLDAYEVENT:FALSE
SUMMARY:Trick or Treat on Southport
DESCRIPTION:Candy-Hungry Monsters and Princesses Take Over Southport \n\n\n\n\nTrick or Treat on Southport is a free community event featuring trick-or-treating at storefront businesses\, photo booths for families to capture their experience\, and outdoor activities organized by local businesses. This annual tradition has attracted such large crowds in recent years that we've outgrown the sidewalks\, and this year's event will include a street closure in order to more safely accommodate the throngs of costumed children.
X-ALT-DESC;FMTTYPE=text/html:<div style="font-family: arial\, sans-serif\; line-height: normal\; color: rgb(0\, 0\, 0)\; text-align: center\;"><b>Candy-Hungry Monsters and Princesses Take Over Southport&nbsp\;</b></div>\n\n<div style="font-family: arial\, sans-serif\; line-height: normal\; color: rgb(0\, 0\, 0)\;">\n<div><br />\n<i>Trick or Treat on Southport</i>&nbsp\;is a free community event featuring trick-or-treating at storefront businesses\, photo booths for families to capture their experience\, and outdoor activities organized by local businesses. This annual tradition has attracted such large crowds in recent years that we&#39\;ve outgrown the sidewalks\, and this year&#39\;s event will include a street closure in order to more safely accommodate the throngs of costumed children.&nbsp\;</div>\n</div>\n
LOCATION:Trick-or-treating is at businesses on Southport Avenue\, between Belmont and Irving Park\, in Chicago. Southport will be closed to car traffic from Roscoe to Addison and from Waveland to Grace.
UID:e.1819.492
SEQUENCE:3
DTSTAMP:20260424T002816Z
URL:https://members.lakeviewroscoevillage.org/events/details/trick-or-treat-on-southport-10-26-2014-492
END:VEVENT

END:VCALENDAR
