BEGIN:VCALENDAR
VERSION:2.0
PRODID:-//ChamberMaster//Event Calendar 2.0//EN
METHOD:PUBLISH
X-PUBLISHED-TTL:P3D
REFRESH-INTERVAL:P3D
CALSCALE:GREGORIAN
BEGIN:VEVENT
DTSTART:20171030T210000Z
DTEND:20171031T010000Z
X-MICROSOFT-CDO-ALLDAYEVENT:FALSE
SUMMARY:Trick or Treat on Southport
DESCRIPTION:The neighborhood's favorite fall tradition returns in 2017! Trick or Treat on Southport celebrates Halloween with free\, family-friendly activities and trick-or-treating at local businesses.\n\n\n\nFor more information\, visit trickortreatonsouthport.com.
X-ALT-DESC;FMTTYPE=text/html:The neighborhood&#39\;s favorite fall tradition returns in 2017! Trick or Treat on Southport celebrates Halloween with free\, family-friendly activities and trick-or-treating at local businesses.<br />\n<br />\nFor more information\, visit <a href="http://www.trickortreatonsouthport.com">trickortreatonsouthport.com</a>.
LOCATION:Southport from Belmont to Irving Park.
UID:e.1819.5360
SEQUENCE:3
DTSTAMP:20260419T182756Z
URL:https://members.lakeviewroscoevillage.org/events/details/trick-or-treat-on-southport-10-30-2017-5360
END:VEVENT

END:VCALENDAR
