BEGIN:VCALENDAR
VERSION:2.0
PRODID:-//ChamberMaster//Event Calendar 2.0//EN
METHOD:PUBLISH
X-PUBLISHED-TTL:P3D
REFRESH-INTERVAL:P3D
CALSCALE:GREGORIAN
BEGIN:VEVENT
DTSTART:20140508T010000Z
DTEND:20140508T030000Z
X-MICROSOFT-CDO-ALLDAYEVENT:FALSE
SUMMARY:Trivia Night Every Wednesday!
DESCRIPTION:Join us to test your knowledge every Wednesday night!  1st Place winner gets $50 Gift Certificate!
X-ALT-DESC;FMTTYPE=text/html:Join us to test your knowledge every Wednesday night!&nbsp\; 1st Place winner gets $50 Gift Certificate!
LOCATION:JP Burkes Patio & Tap
UID:e.1819.274
SEQUENCE:3
DTSTAMP:20260424T120024Z
URL:https://members.lakeviewroscoevillage.org/events/details/trivia-night-every-wednesday-05-07-2014-274
END:VEVENT

END:VCALENDAR
