BEGIN:VCALENDAR
VERSION:2.0
PRODID:-//ChamberMaster//Event Calendar 2.0//EN
METHOD:PUBLISH
X-PUBLISHED-TTL:P3D
REFRESH-INTERVAL:P3D
CALSCALE:GREGORIAN
BEGIN:VEVENT
DTSTART:20161229T020000Z
DTEND:20161229T050000Z
X-MICROSOFT-CDO-ALLDAYEVENT:FALSE
SUMMARY:Trivia Night Wednesdays at Beef & Barley
DESCRIPTION:Join us at 8:00pm every Wednesday for trivia night\, hosted by Whaddayaknow Free Team Trivia.\n\n1st place takes home a $50 gift certificate.  2nd place team wins a $25 gift certificate.\n\nCome every week for your chance to qualify for the Tournament of Champions.\n\n$7 Seasonal Cocktails and $4 Revolution drafts all day long.
X-ALT-DESC;FMTTYPE=text/html:Join us at <strong>8:00pm</strong> every <strong>Wednesday</strong> for trivia night\, hosted by Whaddayaknow Free Team Trivia.<br />\n1st place takes home a $50 gift certificate. &nbsp\;2nd place team wins a $25 gift certificate.<br />\nCome every week for your chance to qualify for the Tournament of Champions.<br />\n$7 Seasonal Cocktails and $4 Revolution drafts all day long.
LOCATION:Beef & Barley is a neighborhood gastropub located in the heart of Lakeview that serves up craft beers\, cocktails and shared plates with a Chicago twist. The team prides themselves on offering guests a relaxed dining experience with an ever-changing curated list of Midwest\, hard-to-find brews and imaginative craft cocktails. Chef Cecil Rodriguez's seasonal menus are inspired by his love of Chicago and all of its eclectic neighborhoods and cuisines. With a highly affordable menu and specials each night of the week\, Beef & Barley offers something for everyone. Guests will never be bored with an array of entertainment options from trivia nights\, skee ball\, board games and an old school photo booth.
UID:e.1819.3331
SEQUENCE:3
DTSTAMP:20260420T051122Z
URL:https://members.lakeviewroscoevillage.org/events/details/trivia-night-wednesdays-at-beef-barley-12-28-2016-3331
END:VEVENT

END:VCALENDAR
