BEGIN:VCALENDAR
VERSION:2.0
PRODID:-//ChamberMaster//Event Calendar 2.0//EN
METHOD:PUBLISH
X-PUBLISHED-TTL:P3D
REFRESH-INTERVAL:P3D
CALSCALE:GREGORIAN
BEGIN:VEVENT
DTSTART:20150804T233000Z
DTEND:20150805T010000Z
X-MICROSOFT-CDO-ALLDAYEVENT:FALSE
SUMMARY:Two Hearted Queen: Networking & Mingling Event
DESCRIPTION:RCG Real Estate has teamed up with Two Hearted Queen on Roscoe for August's local business networking event.\n\n\n\nTwo Hearted Queen is probably one of the best things to happen to the coffee & tea drinkers in the Lakeview\, Southport Corridor.  We are hosting an open house to show you why!  Don't Miss It!\n\n\n\nOn Tuesday\, August 4th\, come join us for FREE\, where all visitors can meet fellow community members\, and help promote local business.\n\n\n\nEat\, Drink and Network.\n\n\n\nStay tuned for more updates on our sponsors!!!\n\n\n\nFor further information or an opportunity to sponsor\, contact Rob Rosmis at 773-999-9705.
X-ALT-DESC;FMTTYPE=text/html:<div><span style="font-size:14px">RCG Real Estate has teamed up with Two Hearted Queen on Roscoe for August&#39\;s local business networking event.</span></div>\n\n<div><br />\n<span style="font-size:14px">Two Hearted Queen is probably one of the best things to happen to the coffee &amp\; tea drinkers in the Lakeview\, Southport Corridor. &nbsp\;We are hosting an open house to show you why! &nbsp\;Don&#39\;t Miss It!</span></div>\n\n<div><br />\n<span style="font-size:14px">On Tuesday\, August 4th\, come join us for FREE\, where all visitors can meet fellow community members\, and help promote local business.<br />\n<br />\nEat\, Drink and Network.<br />\n<br />\nStay tuned for more updates on our sponsors!!!<br />\n<br />\nFor further information or an opportunity to sponsor\, contact Rob Rosmis at 773-999-9705.</span></div>\n
LOCATION:Two Hearted Queen - 1201 W. Roscoe St. Chicago\, IL 60657
UID:e.1819.1801
SEQUENCE:3
DTSTAMP:20260423T040559Z
URL:https://members.lakeviewroscoevillage.org/events/details/two-hearted-queen-networking-mingling-event-08-04-2015-1801
END:VEVENT

END:VCALENDAR
