BEGIN:VCALENDAR
VERSION:2.0
PRODID:-//ChamberMaster//Event Calendar 2.0//EN
METHOD:PUBLISH
X-PUBLISHED-TTL:P3D
REFRESH-INTERVAL:P3D
CALSCALE:GREGORIAN
BEGIN:VEVENT
DTSTART:20160821T000000Z
DTEND:20160821T080000Z
X-MICROSOFT-CDO-ALLDAYEVENT:FALSE
SUMMARY:UFC 202 Diaz vs McGregor 2
DESCRIPTION:The rematch you have been waiting to see is finally upon us.  Nate Diaz and Connor Mcgregor first met in a welterweight fight at UFC 196.  The fight didn't make it out of the second round\, as Nate Diaz shocked the world\, defeating the favorite Mcgregor\, by way of rear-naked choke.  The pair was set for a rematch at UFC 200 only to have the fight scrapped due to problems between McGregor and the UFC.  No matter what the outcome\, the anticipation of this rematch is sure to make it an unforgettable bout.\n\nOther matchups of the night include:\n\nAnthony Johnson vs Glover Teixeira\n\nRick Story vs Donald Cerrone\n\nHyun Gyu Lym vs Mike Perry\n\nTim Means vs Sean Strickland\n\nBeef & Barley is your home for all UFC PPV action\, showing every event\, live with sound\, and never charging a cover.  \n\nPrelim fight start at 7:00pm\, with main card PPV fights beginning immediately after at 9:00pm.\n\nSam Adams Fight Night Specials:\n\n$4 Coney Island Hard Root Beer Drafts\n\n$4 Angry Orchard Crisp Cider Drafts\n\nCall and ask about reservations for groups of 6 or more.  \n\nAll reservations require a minimum table spend based on number of guests.\n\nAll reservations must arrive a minimum of one half hour prior to main card.
X-ALT-DESC;FMTTYPE=text/html:<div>\n<p>The rematch you have been waiting to see is finally upon us. &nbsp\;Nate Diaz and Connor Mcgregor first met in a welterweight fight at UFC 196. &nbsp\;The fight didn&#39\;t make it out of the second round\, as Nate Diaz shocked the world\, defeating the favorite Mcgregor\, by way of rear-naked choke. &nbsp\;The pair was set for a rematch at UFC 200 only to have the fight scrapped due to problems between McGregor and the UFC. &nbsp\;No matter what the outcome\, the anticipation of this rematch is sure to make it an unforgettable bout.</p>\n\n<p>Other matchups of the night include:</p>\n\n<p>Anthony Johnson vs Glover Teixeira<br />\nRick Story vs Donald Cerrone<br />\nHyun Gyu Lym vs Mike Perry<br />\nTim Means vs Sean Strickland</p>\n\n<p>Beef &amp\; Barley is your home for all UFC PPV action\, showing every event\, live with sound\, and never charging a cover. &nbsp\;</p>\n\n<p>Prelim fight start at 7:00pm\, with main card PPV fights beginning immediately after at 9:00pm.</p>\n\n<p>Sam Adams Fight Night Specials:<br />\n<em>$4 Coney Island Hard Root Beer Drafts<br />\n$4 Angry Orchard Crisp Cider Drafts</em></p>\n\n<p><em>Call and ask about reservations for groups of 6 or more. &nbsp\;<br />\nAll reservations require a minimum table spend based on number of guests.<br />\nAll reservations must arrive a minimum of one half hour prior to main card.</em></p>\n</div>\n
LOCATION:Beef & Barley is a neighborhood gastropub located in the heart of Lakeview that serves up craft beers\, cocktails and shared plates with a Chicago twist. The team prides themselves on offering guests a relaxed dining experience with an ever-changing curated list of Midwest\, hard-to-find brews and imaginative craft cocktails. Chef Cecil Rodriguez's seasonal menus are inspired by his love of Chicago and all of its eclectic neighborhoods and cuisines. With a highly affordable menu and specials each night of the week\, Beef & Barley offers something for everyone. Guests will never be bored with an array of entertainment options from trivia nights\, skee ball\, board games and an old school photo booth.
UID:e.1819.3557
SEQUENCE:3
DTSTAMP:20260422T074455Z
URL:https://members.lakeviewroscoevillage.org/events/details/ufc-202-diaz-vs-mcgregor-2-08-20-2016-3557
END:VEVENT

END:VCALENDAR
