BEGIN:VCALENDAR
VERSION:2.0
PRODID:-//ChamberMaster//Event Calendar 2.0//EN
METHOD:PUBLISH
X-PUBLISHED-TTL:P3D
REFRESH-INTERVAL:P3D
CALSCALE:GREGORIAN
BEGIN:VEVENT
DTSTART:20160911T000000Z
DTEND:20160911T073000Z
X-MICROSOFT-CDO-ALLDAYEVENT:FALSE
SUMMARY:UFC 203 Miocic vs. Overeem
DESCRIPTION:Stipe Miocic is set to make his first title defense after taking the Heavyweight belt from Werdum at UFC 198.  His opponent comes in the form of former Strikeforce Heavyweight Champion Alistair Overeem.  Fabricio Werdum will see Travis Browne  in the co-main event.  Werdum looks to remain undefeated against Browne\, after defeating him in their only other fight\, which took place in 2014.  With a host of injuries behind him\, CM Punk makes his long awaited debut after signing with the UFC in December of 2014.  Punk will look to defeat Mickey Gall\, who would love to keep Punk from his first ever UFC victory.\n\nBeef & Barley is your home for all UFC PPV action\, showing every event\, live with sound\, and never charging a cover.  \n\nPrelim fight start at 7:00pm\, with main card PPV fights beginning immediately after at 9:00pm.\n\nFight Night Specials:\n\n$4 Leinekugels Octoberfest Drafts\n\n$4 Sam Adams Octoberfest Drafts\n\n$4 Angry Orchard Crisp Cider Drafts\n\nCall and ask about reservations for groups of 6 or more.  \n\nAll reservations require a minimum table spend based on number of guests.\n\nAll reservations must arrive a minimum of one hour prior to main card.
X-ALT-DESC;FMTTYPE=text/html:<div>\n<p>Stipe Miocic is set to make his first title defense after taking the Heavyweight belt from Werdum at UFC 198. &nbsp\;His opponent comes in the form of former Strikeforce Heavyweight Champion Alistair Overeem. &nbsp\;Fabricio Werdum will see Travis Browne &nbsp\;in the co-main event. &nbsp\;Werdum looks to remain undefeated against Browne\, after defeating him in their only other fight\, which took place in 2014. &nbsp\;With a host of injuries behind him\,&nbsp\;CM Punk makes his long awaited debut after signing with the UFC in December of 2014. &nbsp\;Punk will look to defeat Mickey Gall\, who would love to keep Punk from his first ever UFC victory.</p>\n\n<p>Beef &amp\; Barley is your home for all UFC PPV action\, showing every event\, live with sound\, and never charging a cover. &nbsp\;</p>\n\n<p>Prelim fight start at 7:00pm\, with main card PPV fights beginning immediately after at 9:00pm.</p>\n\n<p>Fight Night Specials:<br />\n<em>$4 Leinekugels Octoberfest Drafts</em><br />\n<em>$4 Sam Adams Octoberfest Drafts<br />\n$4 Angry Orchard Crisp Cider Drafts</em></p>\n\n<p><em>Call and ask about reservations for groups of 6 or more. &nbsp\;<br />\nAll reservations require a minimum table spend based on number of guests.<br />\nAll reservations must arrive a minimum of one hour prior to main card.</em></p>\n</div>\n
LOCATION:Beef & Barley is a neighborhood gastropub located in the heart of Lakeview that serves up craft beers\, cocktails and shared plates with a Chicago twist. The team prides themselves on offering guests a relaxed dining experience with an ever-changing curated list of Midwest\, hard-to-find brews and imaginative craft cocktails. Chef Cecil Rodriguez's seasonal menus are inspired by his love of Chicago and all of its eclectic neighborhoods and cuisines. With a highly affordable menu and specials each night of the week\, Beef & Barley offers something for everyone. Guests will never be bored with an array of entertainment options from trivia nights\, skee ball\, board games and an old school photo booth.
UID:e.1819.3589
SEQUENCE:3
DTSTAMP:20260422T062044Z
URL:https://members.lakeviewroscoevillage.org/events/details/ufc-203-miocic-vs-overeem-09-10-2016-3589
END:VEVENT

END:VCALENDAR
