BEGIN:VCALENDAR
VERSION:2.0
PRODID:-//ChamberMaster//Event Calendar 2.0//EN
METHOD:PUBLISH
X-PUBLISHED-TTL:P3D
REFRESH-INTERVAL:P3D
CALSCALE:GREGORIAN
BEGIN:VEVENT
DTSTART:20130928T170000Z
DTEND:20130928T210000Z
X-MICROSOFT-CDO-ALLDAYEVENT:FALSE
SUMMARY:Uncle Dan's 3rd Annual Wool Event
DESCRIPTION:Uncle Dan?s The Great Outdoor Store is hosting their 3rd annual Merino Wool Event. Meet representatives from top brands\, including Icebreaker\, SmartWool\, Ibex\, Fits Socks and Woolrich. Enjoy 20% off your entire purchase of wool products and enter to win great raffle prizes. Wine Discount Center will be serving wine from New Zealand and Highland POP will be handing out popcorn. Kids can visit sheep at a petting zoo outside making this event ewe?nique for the entire family.
X-ALT-DESC;FMTTYPE=text/html:Uncle Dan?s The Great Outdoor Store is hosting their 3rd annual Merino Wool Event. Meet representatives from top brands\, including Icebreaker\, SmartWool\, Ibex\, Fits Socks and Woolrich. Enjoy 20% off your entire purchase of wool products and enter to win great raffle prizes. Wine Discount Center will be serving wine from New Zealand and Highland POP will be handing out popcorn. Kids can visit sheep at a petting zoo outside making this event ewe?nique for the entire family.
LOCATION:Uncle Dan's Great Outdoor Store 621 Central Ave. Highland Park\, IL
UID:e.1819.70
SEQUENCE:3
DTSTAMP:20260425T003810Z
URL:https://members.lakeviewroscoevillage.org/events/details/uncle-dan-s-3rd-annual-wool-event-09-28-2013-70
END:VEVENT

END:VCALENDAR
