BEGIN:VCALENDAR
VERSION:2.0
PRODID:-//ChamberMaster//Event Calendar 2.0//EN
METHOD:PUBLISH
X-PUBLISHED-TTL:P3D
REFRESH-INTERVAL:P3D
CALSCALE:GREGORIAN
BEGIN:VEVENT
DTSTART:20200521T170000Z
DTEND:20200521T180000Z
X-MICROSOFT-CDO-ALLDAYEVENT:FALSE
SUMMARY:Understanding the Paycheck Protection Program Loan Forgiveness Process
DESCRIPTION:Join the American Business Immigration Coalition (ABIC)\, National Partnership for New Americans (NPNA)\, The Resurrection Project (TRP)\, Illinois Restaurant Association (IRA)\, Florida Restaurant Association (FLRA)\, and Self Help Federal Credit Union this Thursday May 21st at 1:00 PM EST for the webinar "Understanding the Paycheck Protection Program Loan Forgiveness Process"\n\n\n\nLast Friday\, May 15th\, the US Treasury and Small Business Administration (SBA) released the loan forgiveness application form for the Paycheck Protection Program. Learn from SBA lending experts on how your agency can prepare for loan forgiveness and get your questions answered.
X-ALT-DESC;FMTTYPE=text/html:Join the American Business Immigration Coalition (ABIC)\, National Partnership for New Americans (NPNA)\, The Resurrection Project (TRP)\, Illinois Restaurant Association (IRA)\, Florida Restaurant Association (FLRA)\, and Self Help Federal Credit Union this Thursday May 21st at 1:00 PM EST for the webinar &ldquo\;Understanding the Paycheck Protection Program Loan Forgiveness Process&rdquo\;<br />\n<br />\nLast Friday\, May 15th\, the US Treasury and Small Business Administration (SBA) released the loan forgiveness application form for the Paycheck Protection Program. Learn from SBA lending experts on how your agency can prepare for loan forgiveness and get your questions answered.&nbsp\;
LOCATION:
UID:e.1819.17745
SEQUENCE:3
DTSTAMP:20260424T111629Z
URL:https://members.lakeviewroscoevillage.org/events/details/understanding-the-paycheck-protection-program-loan-forgiveness-process-05-21-2020-17745
END:VEVENT

END:VCALENDAR
