BEGIN:VCALENDAR
VERSION:2.0
PRODID:-//ChamberMaster//Event Calendar 2.0//EN
METHOD:PUBLISH
X-PUBLISHED-TTL:P3D
REFRESH-INTERVAL:P3D
CALSCALE:GREGORIAN
BEGIN:VEVENT
DTSTART:20170215T000000Z
DTEND:20170215T030000Z
X-MICROSOFT-CDO-ALLDAYEVENT:FALSE
SUMMARY:Valentine's Day at Bottle & Bottega!
DESCRIPTION:Celebrate Valentine's Day with Bottle & Bottega! The couple that paints together-- stays together! Join us at our *BYOB* studio for an ultra-special holiday extravaganza\, featuring a romantic\, Parisian-themed painting party your loved one is sure to remember. We've got the ambiance\, the Valentine's Day photobooth\, and tasty chocolate... you just bring the wine and your sweetie!\n\nTicket price includes use of all necessary paint supplies and aprons\, instruction\, and a 16x20 take-home canvas.\n\n\n\nBONUS: Each guest will be entered into our fabulous raffle\, featuring prizes from The Gwen Hotel\, Taboo Tabou\, Cafe Chien\, and the Athenaeum Theatre... plus tons of Bottle & Bottega goodies! Don't miss your chance to win big! :)\n\n6:30pm - 7:00pm BYOB Cocktail Reception\n\n7:00pm - 9:30pm Painting\n\n- First 30 minutes of the event is settle in and cocktail time! We are BYOB so bring what you would like to drink!\n\n- We have glasses\, wine openers\, plastic ware\, paper plates\, napkins and ice here for you. You're welcome to bring any food items\; please note table space is limited.\n\nTO REGISTER FOR THIS EVENT\, CLICK HERE: https://sites.cimplebox.com/events/event.aspx?s=3291&c=1650&eid=280801&r=0.2954198
X-ALT-DESC;FMTTYPE=text/html:<p><strong>Celebrate Valentine&#39\;s Day with Bottle &amp\; Bottega!&nbsp\;</strong>The couple that paints together-- stays together! Join us at our *BYOB* studio for an ultra-special holiday extravaganza\, featuring a romantic\, Parisian-themed painting party your loved one is sure to remember. We&#39\;ve got the ambiance\, the Valentine&#39\;s Day photobooth\, and tasty chocolate... you just bring the wine and your sweetie!</p>\n\n<p>Ticket price includes use of all necessary paint supplies and aprons\, instruction\, and a 16x20 take-home canvas.<br />\n<br />\n<strong>BONUS</strong>: Each guest will be entered into our fabulous raffle\, featuring prizes from&nbsp\;<a href="http://www.thegwenchicago.com/" rel="noopener noreferrer nofollow" style="color: rgb(2\, 120\, 184)\; text-decoration: none\;" target="_blank">The Gwen Hotel</a>\,&nbsp\;<a href="http://tabootabou.com/" rel="noopener noreferrer nofollow" style="color: rgb(2\, 120\, 184)\; text-decoration: none\;" target="_blank">Taboo Tabou</a>\,&nbsp\;<a href="http://www.cafechienchicago.com/" rel="noopener noreferrer nofollow" style="color: rgb(2\, 120\, 184)\; text-decoration: none\;" target="_blank">Cafe Chien</a>\, and the&nbsp\;<a href="http://athenaeumtheatre.org/" rel="noopener noreferrer nofollow" style="color: rgb(2\, 120\, 184)\; text-decoration: none\;" target="_blank">Athenaeum Theatre</a>... plus tons of Bottle &amp\; Bottega goodies! Don&#39\;t miss your chance to win big! :)</p>\n\n<p><strong>6:30pm - 7:00pm&nbsp\;</strong>BYOB Cocktail Reception<br />\n<strong>7:00pm - 9:30pm&nbsp\;</strong>Painting</p>\n\n<p>- First 30 minutes of the event is settle in and cocktail time! We are BYOB so bring what you would like to drink!<br />\n- We have glasses\, wine openers\, plastic ware\, paper plates\, napkins and ice here for you. You&rsquo\;re welcome to bring any food items\; please note table space is limited.</p>\n\n<p><strong>TO REGISTER FOR THIS EVENT\, CLICK HERE:&nbsp\;<a href="https://sites.cimplebox.com/events/event.aspx?s=3291&amp\;c=1650&amp\;eid=280801&amp\;r=0.2954198" rel="noopener noreferrer nofollow" style="color: rgb(2\, 120\, 184)\; text-decoration: none\; padding-top: 0px\;" target="_blank">https://sites.cimplebox.com/events/event.aspx?s=3291&amp\;c=1650&amp\;eid=280801&amp\;r=0.2954198</a></strong></p>\n\n<p>&nbsp\;</p>\n
LOCATION:Bottle & Bottega Lakeview 2900 N Lincoln Ave Chicago\, IL 60657
UID:e.1819.4930
SEQUENCE:3
DTSTAMP:20260420T013740Z
URL:https://members.lakeviewroscoevillage.org/events/details/valentine-s-day-at-bottle-bottega-02-14-2017-4930
END:VEVENT

END:VCALENDAR
