BEGIN:VCALENDAR
VERSION:2.0
PRODID:-//ChamberMaster//Event Calendar 2.0//EN
METHOD:PUBLISH
X-PUBLISHED-TTL:P3D
REFRESH-INTERVAL:P3D
CALSCALE:GREGORIAN
BEGIN:VEVENT
DTSTART:20140215T000000Z
DTEND:20140215T023000Z
X-MICROSOFT-CDO-ALLDAYEVENT:FALSE
SUMMARY:Valentine's Day Painting Party & Wine Tasting BYOB
DESCRIPTION:For all you lovebirds: Spend your special night at Bottle & Bottega. We'll have candlelight and live music to set the tone along with a complimentary wine tasting from 6:00-6:30pm (event is BYOB)\, cupcakes and chocolates\, but feel free to bring your own snacks (space is limited).\n\n					\n\n					You'll work in Mixed Media crafting layers of printed sheet music (bring printouts of your own special song to make it even MORE special!) then paint to create "Lovebirds on a Wire"! We'll give you tips and tricks to "mix" things up so each couple's painting turns out differently.\n\n					\n\n					We'll also have a few items to raffle during the event.\n\n					\n\n					Ticket price includes all of the above plus materials\, instruction\, aprons and a 10x10 take-home canvas!\n\n					\n\n					Reception and wine tasting take place from 6:00 - 6:30pm.\n\n					We'll have original live music from 7:30 - 8:30pm.\n\n					Painting takes place from 6:30 - 8:30pm.\n\n					\n\n					Cancellations made within 48 hours are subject only to a studio credit. Sorry\, there are no refunds or credits for no-shows.\n\n					\n\n					Because alcohol is present during our events\, we restrict attendance to adults 18 and over. Alcohol consumption is permitted only for adults over 21. Please have an ID available.\n			\n		\n		\n			\n				Date/Time: Fri\, 2/14/2014\, 6:00 - 8:30 PM\n		\n		\n			\n				Location: Lakeview Studio - 2900 N Lincoln Ave\n		\n		\n			\n				Instructor: *Hayley Kluska\n\n				Instructor: *Linda Jackson\n\n				Assistant: *Mary Beth Riebock\n\n				Assistant: *Norbert Marszalek\n		\n		\n			\n				Price: $45.00
X-ALT-DESC;FMTTYPE=text/html:<table border="0" cellpadding="10" cellspacing="3" width="100%">\n	<tbody>\n		<tr>\n			<td align="left" class="previewDesc1">\n				<p>\n					For all you lovebirds: Spend your special night at Bottle &amp\; Bottega. We&#39\;ll have candlelight and live music to set the tone along with a complimentary wine tasting from 6:00-6:30pm (event is BYOB)\, cupcakes and chocolates\, but feel free to bring your own snacks (space is limited).<br />\n					<br />\n					You&#39\;ll work in Mixed Media crafting layers of printed sheet music (bring printouts of your own special song to make it even MORE special!) then paint to create &quot\;Lovebirds on a Wire&quot\;! We&#39\;ll give you tips and tricks to &quot\;mix&quot\; things up so each couple&#39\;s painting turns out differently.<br />\n					<br />\n					We&#39\;ll also have a few items to raffle during the event.<br />\n					<br />\n					Ticket price includes all of the above plus materials\, instruction\, aprons and a 10x10 take-home canvas!<br />\n					<br />\n					Reception and wine tasting take place from 6:00 - 6:30pm.<br />\n					We&#39\;ll have original live music from 7:30 - 8:30pm.<br />\n					Painting takes place from 6:30 - 8:30pm.<br />\n					<br />\n					Cancellations made within 48 hours are subject only to a studio credit. Sorry\, there are no refunds or credits for no-shows.<br />\n					<br />\n					Because alcohol is present during our events\, we restrict attendance to adults 18 and over. Alcohol consumption is permitted only for adults over 21. Please have an ID available.</p>\n			</td>\n		</tr>\n		<tr>\n			<td align="left" class="previewText1">\n				<span class="previewLabel1"><b>Date/Time:</b></span> Fri\, 2/14/2014\, 6:00 - 8:30 PM</td>\n		</tr>\n		<tr>\n			<td align="left" class="previewText1">\n				<span class="previewLabel1"><b>Location:</b></span> Lakeview Studio - 2900 N Lincoln Ave</td>\n		</tr>\n		<tr>\n			<td align="left" class="previewText1">\n				<span class="previewLabel1"><b>Instructor:</b></span> *Hayley Kluska<br />\n				<span class="previewLabel1"><b>Instructor:</b></span> *Linda Jackson<br />\n				<span class="previewLabel1"><b>Assistant:</b></span> *Mary Beth Riebock<br />\n				<span class="previewLabel1"><b>Assistant:</b></span> *Norbert Marszalek</td>\n		</tr>\n		<tr>\n			<td align="left" class="previewText1">\n				<span class="previewLabel1"><b>Price:</b></span> $45.00</td>\n		</tr>\n	</tbody>\n</table>\n
LOCATION:Bottle & Bottega Lakeview Studio 2900 N Lincoln Ave Chicago\, IL 60657
UID:e.1819.189
SEQUENCE:3
DTSTAMP:20260424T155722Z
URL:https://members.lakeviewroscoevillage.org/events/details/valentine-s-day-painting-party-wine-tasting-byob-02-14-2014-189
END:VEVENT

END:VCALENDAR
