BEGIN:VCALENDAR
VERSION:2.0
PRODID:-//ChamberMaster//Event Calendar 2.0//EN
METHOD:PUBLISH
X-PUBLISHED-TTL:P3D
REFRESH-INTERVAL:P3D
CALSCALE:GREGORIAN
BEGIN:VEVENT
DTSTART;VALUE=DATE:20141111
DTEND;VALUE=DATE:20141112
TRANSP:TRANSPARENT
X-MICROSOFT-CDO-ALLDAYEVENT:TRUE
SUMMARY:Veterans Day - LCC Office Closed
DESCRIPTION:The Lakeview Chamber of Commerce office will be closed on Veterans Day.
X-ALT-DESC;FMTTYPE=text/html:The Lakeview Chamber of Commerce office will be closed on Veterans Day.
LOCATION:
UID:e.1819.718
SEQUENCE:3
DTSTAMP:20260423T205625Z
URL:https://members.lakeviewroscoevillage.org/events/details/veterans-day-lcc-office-closed-11-11-2014-718
END:VEVENT

END:VCALENDAR
