BEGIN:VCALENDAR
VERSION:2.0
PRODID:-//ChamberMaster//Event Calendar 2.0//EN
METHOD:PUBLISH
X-PUBLISHED-TTL:P3D
REFRESH-INTERVAL:P3D
CALSCALE:GREGORIAN
BEGIN:VEVENT
DTSTART:20200520T130000Z
DTEND:20200520T140000Z
X-MICROSOFT-CDO-ALLDAYEVENT:FALSE
SUMMARY:Virtual Coffee & Commerce
DESCRIPTION:Join us for our free morning networking mixer now online\, it's Virtual Coffee & Commerce! Whether you are looking to make new business connections or just want to exchange ideas with other small business owners\, our new Virtual Coffee & Commerce is the perfect opportunity to enhance your professional network from the comfort of your phone or computer.\n\n\n\nThis event is hosted by the Lakeview Chamber of Commerce\, Lincoln Park Chamber of Commerce\, Roscoe Village Chamber of Commerce\, and the SBAC\, along with our partner\, Capital One Cafe.
X-ALT-DESC;FMTTYPE=text/html:<div><span style="color: rgb(35\, 35\, 51)\; font-family: Lato\, Helvetica\, Arial\; font-size: 14px\; background-color: rgb(255\, 255\, 255)\;">Join us for our free morning networking mixer now online\, it&#39\;s Virtual Coffee &amp\; Commerce! Whether you are looking to make new business connections or just want to exchange ideas with other small business owners\, our new Virtual Coffee &amp\; Commerce is the perfect opportunity to enhance your professional network from the comfort of your phone or computer.</span><br style="box-sizing: border-box\; color: rgb(35\, 35\, 51)\; font-family: Lato\, Helvetica\, Arial\; font-size: 14px\; background-color: rgb(255\, 255\, 255)\;" />\n<br style="box-sizing: border-box\; color: rgb(35\, 35\, 51)\; font-family: Lato\, Helvetica\, Arial\; font-size: 14px\; background-color: rgb(255\, 255\, 255)\;" />\n<span style="color: rgb(35\, 35\, 51)\; font-family: Lato\, Helvetica\, Arial\; font-size: 14px\; background-color: rgb(255\, 255\, 255)\;">This event is hosted by the Lakeview Chamber of Commerce\, Lincoln Park Chamber of Commerce\, Roscoe Village Chamber of Commerce\, and the SBAC\, along with our partner\, Capital One Cafe.</span></div>\n<br />\n&nbsp\;
LOCATION:REGISTER HERE via Zoom
UID:e.1819.13941
SEQUENCE:3
DTSTAMP:20260424T180326Z
URL:https://members.lakeviewroscoevillage.org/events/details/virtual-coffee-commerce-05-20-2020-13941
END:VEVENT

END:VCALENDAR
